BEGIN:VCALENDAR
VERSION:2.0
PRODID:-//www.thearcfamilyinstitute.org//NONSGML kigkonsult.se iCalcreator 
 2.30.10//
CALSCALE:GREGORIAN
METHOD:PUBLISH
UID:036d64ab-4cb0-4c1f-adc0-77215e352556
X-WR-CALDESC:
X-WR-RELCALID:c73da626946207ae7761120f85c9c822
X-WR-TIMEZONE:America/New_York
BEGIN:VTIMEZONE
TZID:America/New_York
BEGIN:STANDARD
TZNAME:EST
DTSTART:20161106T020000
TZOFFSETFROM:-0400
TZOFFSETTO:-0500
RDATE:20171105T020000
RDATE:20181104T020000
END:STANDARD
BEGIN:DAYLIGHT
TZNAME:EDT
DTSTART:20170312T020000
TZOFFSETFROM:-0500
TZOFFSETTO:-0400
RDATE:20180311T020000
RDATE:20190310T020000
END:DAYLIGHT
END:VTIMEZONE
BEGIN:VEVENT
UID:c11f64c8-1434-4e28-bf09-50a65b15236c
DTSTAMP:20260424T024757Z
DESCRIPTION:
DTSTART;TZID=America/New_York:20171012T183000
DTEND;TZID=America/New_York:20171012T203000
LOCATION:Bridgewater Library\, Room A\, 1 Vogt Drive\, Bridgewater\, NJ
SUMMARY:Informational Meeting (Somerset County)
END:VEVENT
END:VCALENDAR
