BEGIN:VCALENDAR
VERSION:2.0
PRODID:-//www.thearcfamilyinstitute.org//NONSGML kigkonsult.se iCalcreator 
 2.30.10//
CALSCALE:GREGORIAN
METHOD:PUBLISH
UID:1cef1b93-ef52-4a42-a39f-67897e3ad195
X-WR-CALDESC:
X-WR-RELCALID:ac2dc011ab202964c92b4e5567d1dd9b
X-WR-TIMEZONE:America/New_York
BEGIN:VTIMEZONE
TZID:America/New_York
BEGIN:STANDARD
TZNAME:EST
DTSTART:20161106T020000
TZOFFSETFROM:-0400
TZOFFSETTO:-0500
RDATE:20171105T020000
RDATE:20181104T020000
END:STANDARD
BEGIN:DAYLIGHT
TZNAME:EDT
DTSTART:20170312T020000
TZOFFSETFROM:-0500
TZOFFSETTO:-0400
RDATE:20180311T020000
RDATE:20190310T020000
END:DAYLIGHT
END:VTIMEZONE
BEGIN:VEVENT
UID:f39b8c3b-4b85-493a-8d45-f1ffb8ab0964
DTSTAMP:20260424T024830Z
DESCRIPTION:
DTSTART;TZID=America/New_York:20171007T100000
DTEND;TZID=America/New_York:20171007T130000
LOCATION:RiverWinds Community Center\, 100 RiverWinds Drive\, West Deptford
 \, NJ 08086
SUMMARY:Provider Fair (Cumberland\, Salem\, Gloucester)
END:VEVENT
END:VCALENDAR
