BEGIN:VCALENDAR
VERSION:2.0
PRODID:-//www.thearcfamilyinstitute.org//NONSGML kigkonsult.se iCalcreator 
 2.30.10//
CALSCALE:GREGORIAN
METHOD:PUBLISH
UID:40e2dcee-aee5-42e3-a5dc-ab9c5c2dd26a
X-WR-CALDESC:Calling all students with intellectual and developmental disab
 ilities and their families.\n\nJoin The Arc of New Jersey Family Institute
  for a tour of Mercer County Community College’s DREAM program. Students a
 nd their families  will have an opportunity to visit Mercer County Communi
 ty College and learn about the different aspects of a college experience. 
 The DREAM program is student-centered\, which means that each student's co
 urse of study is determined by the student's goals and needs. \n\nAreas of
  study include: Academic Experiences\, Career Related Experiences\, Indepe
 ndent Life Experiences\, and Socialization Experiences. 
X-WR-RELCALID:3adc4700c2b874ad08e9624a97da814d
X-WR-TIMEZONE:America/New_York
BEGIN:VTIMEZONE
TZID:America/New_York
BEGIN:STANDARD
TZNAME:EST
DTSTART:20161106T020000
TZOFFSETFROM:-0400
TZOFFSETTO:-0500
RDATE:20171105T020000
RDATE:20181104T020000
END:STANDARD
BEGIN:DAYLIGHT
TZNAME:EDT
DTSTART:20170312T020000
TZOFFSETFROM:-0500
TZOFFSETTO:-0400
RDATE:20180311T020000
RDATE:20190310T020000
END:DAYLIGHT
END:VTIMEZONE
BEGIN:VEVENT
UID:81092004-1a46-40fd-ab90-57adefe4abf9
DTSTAMP:20260424T024756Z
DESCRIPTION:Calling all students with intellectual and developmental disabi
 lities and their families.\n\nJoin The Arc of New Jersey Family Institute 
 for a tour of Mercer County Community College’s DREAM program. Students an
 d their families  will have an opportunity to visit Mercer County Communit
 y College and learn about the different aspects of a college experience. T
 he DREAM program is student-centered\, which means that each student's cou
 rse of study is determined by the student's goals and needs. \n\nAreas of 
 study include: Academic Experiences\, Career Related Experiences\, Indepen
 dent Life Experiences\, and Socialization Experiences. 
DTSTART;TZID=America/New_York:20171007T100000
DTEND;TZID=America/New_York:20171007T120000
LOCATION:Mercer County College\, Welcome Center\, West Windsor Campus\, 120
 0 Old Trenton Road\, West Windsor\, NJ 08550
SUMMARY:Mercer County College Tour
END:VEVENT
END:VCALENDAR
