BEGIN:VCALENDAR
VERSION:2.0
PRODID:-//www.thearcfamilyinstitute.org//NONSGML kigkonsult.se iCalcreator 
 2.30.10//
CALSCALE:GREGORIAN
METHOD:PUBLISH
UID:d9b23fb4-a76f-4d5f-90c9-f3f23c9e2c21
X-WR-CALDESC:Calling all students with intellectual and developmental disab
 ilities and their families.\n\nJoin The Arc of New Jersey Family Institute
  for a tour of The Turning Point Program at Bergen Community College. The 
 Turning Point Program is a two-year post-secondary experience for young ad
 ults with intellectual disabilities interested in continuing their educati
 on. The program utilizes student-centered planning\, enhanced academic and
  peer mentoring support to provide an inclusive college experience. Areas 
 of study include: career skill development and vocational opportunities\, 
 academic enrichment\, increased ability for self-advocacy and independence
 \, Social and recreational opportunities. During the tour perspective stud
 ents will have an opportunity to visit the campus and learn about the diff
 erent aspects of a college experience while families will learn about the 
 Program and its educational\, vocational and campus life supports.
X-WR-RELCALID:f527bc8920729f769eb3e4b8c16c5d86
X-WR-TIMEZONE:America/New_York
BEGIN:VTIMEZONE
TZID:America/New_York
BEGIN:STANDARD
TZNAME:EST
DTSTART:20161106T020000
TZOFFSETFROM:-0400
TZOFFSETTO:-0500
RDATE:20171105T020000
RDATE:20181104T020000
END:STANDARD
BEGIN:DAYLIGHT
TZNAME:EDT
DTSTART:20170312T020000
TZOFFSETFROM:-0500
TZOFFSETTO:-0400
RDATE:20180311T020000
RDATE:20190310T020000
END:DAYLIGHT
END:VTIMEZONE
BEGIN:VEVENT
UID:65845965-f51b-4c35-995d-05c0b1fa75fc
DTSTAMP:20260424T024736Z
DESCRIPTION:Calling all students with intellectual and developmental disabi
 lities and their families.\n\nJoin The Arc of New Jersey Family Institute 
 for a tour of The Turning Point Program at Bergen Community College. The T
 urning Point Program is a two-year post-secondary experience for young adu
 lts with intellectual disabilities interested in continuing their educatio
 n. The program utilizes student-centered planning\, enhanced academic and 
 peer mentoring support to provide an inclusive college experience. Areas o
 f study include: career skill development and vocational opportunities\, a
 cademic enrichment\, increased ability for self-advocacy and independence\
 , Social and recreational opportunities. During the tour perspective stude
 nts will have an opportunity to visit the campus and learn about the diffe
 rent aspects of a college experience while families will learn about the P
 rogram and its educational\, vocational and campus life supports.
DTSTART;TZID=America/New_York:20171006T100000
DTEND;TZID=America/New_York:20171006T120000
LOCATION:Bergen Community College\, 400 Paramus Road\, Paramus\, NJ 07652
SUMMARY:Turning Point Program at Bergen Community College Tour
END:VEVENT
END:VCALENDAR
