BEGIN:VCALENDAR
VERSION:2.0
PRODID:-//www.thearcfamilyinstitute.org//NONSGML kigkonsult.se iCalcreator 
 2.30.10//
CALSCALE:GREGORIAN
METHOD:PUBLISH
UID:102f7be2-2586-4467-aee5-f1c9941baa0f
X-WR-CALDESC:
X-WR-RELCALID:c2446805a7f95b456e5e0c92810e98b8
X-WR-TIMEZONE:America/New_York
BEGIN:VTIMEZONE
TZID:America/New_York
BEGIN:STANDARD
TZNAME:EST
DTSTART:20161106T020000
TZOFFSETFROM:-0400
TZOFFSETTO:-0500
RDATE:20171105T020000
RDATE:20181104T020000
END:STANDARD
BEGIN:DAYLIGHT
TZNAME:EDT
DTSTART:20170312T020000
TZOFFSETFROM:-0500
TZOFFSETTO:-0400
RDATE:20180311T020000
RDATE:20190310T020000
END:DAYLIGHT
END:VTIMEZONE
BEGIN:VEVENT
UID:98bc75aa-14f4-4935-b702-88f11b69110a
DTSTAMP:20260424T024916Z
DESCRIPTION:
DTSTART;TZID=America/New_York:20171005T110000
DTEND;TZID=America/New_York:20171005T133000
LOCATION:Somerville Elks Lodge\, 375 Union Ave\, Bridgewater\, NJ 08807
SUMMARY:Public Forum / Providers' Fair (Somerset & Union Counties)
END:VEVENT
END:VCALENDAR
