BEGIN:VCALENDAR
VERSION:2.0
PRODID:-//www.thearcfamilyinstitute.org//NONSGML kigkonsult.se iCalcreator 
 2.30.10//
CALSCALE:GREGORIAN
METHOD:PUBLISH
UID:82136bea-4f48-4419-9ab8-50711ed80ae9
X-WR-CALDESC:From the The Boggs Center on Developmental Disabilities. Perso
 ns with IDD and mental health challenges often function in a complex web o
 f caregivers\, in a variety of stressful environments\, with a diversity o
 f support needs. Identifying and communicating these needs is often puzzli
 ng and sometimes overwhelming to our frequently limited resources. This pr
 esentation will emphasize tools to interpret behaviors and symptoms as wel
 l as methods to assist people in reaching their maximum capacity. Best pra
 ctices in meeting the social\, emotional\, psychological\, and development
 al needs of individuals with IDD as well as mental health challenges will 
 be addressed\, including key components of successful program models.
X-WR-RELCALID:ac3b1abdb058ba4f02d6b0a2475b32bc
X-WR-TIMEZONE:America/New_York
BEGIN:VTIMEZONE
TZID:America/New_York
BEGIN:STANDARD
TZNAME:EST
DTSTART:20161106T020000
TZOFFSETFROM:-0400
TZOFFSETTO:-0500
RDATE:20171105T020000
RDATE:20181104T020000
END:STANDARD
BEGIN:DAYLIGHT
TZNAME:EDT
DTSTART:20170312T020000
TZOFFSETFROM:-0500
TZOFFSETTO:-0400
RDATE:20180311T020000
RDATE:20190310T020000
END:DAYLIGHT
END:VTIMEZONE
BEGIN:VEVENT
UID:eb05845f-e502-4e29-9974-833e4cea3974
DTSTAMP:20260424T024853Z
DESCRIPTION:From the The Boggs Center on Developmental Disabilities. Person
 s with IDD and mental health challenges often function in a complex web of
  caregivers\, in a variety of stressful environments\, with a diversity of
  support needs. Identifying and communicating these needs is often puzzlin
 g and sometimes overwhelming to our frequently limited resources. This pre
 sentation will emphasize tools to interpret behaviors and symptoms as well
  as methods to assist people in reaching their maximum capacity. Best prac
 tices in meeting the social\, emotional\, psychological\, and developmenta
 l needs of individuals with IDD as well as mental health challenges will b
 e addressed\, including key components of successful program models.
DTSTART;TZID=America/New_York:20171005T090000
DTEND;TZID=America/New_York:20171005T100000
LOCATION:APA Hotel Woodbridge\, Iselin\, NJ
SUMMARY:Free Workshop: Interpreting and Responding to the Complex Needs  of
  Persons with Dual Diagnosis
END:VEVENT
END:VCALENDAR
