BEGIN:VCALENDAR
VERSION:2.0
PRODID:-//www.thearcfamilyinstitute.org//NONSGML kigkonsult.se iCalcreator 
 2.30.10//
CALSCALE:GREGORIAN
METHOD:PUBLISH
UID:464491a9-ae81-4a35-b38c-e02eba934339
X-WR-CALDESC:Celebrate Disability Awareness Month \nFree Admission to Montc
 lair Art Museum and Information about Services for Children and Adults wit
 h Intellectual and Developmental Disabilities.\n\nCo-sponsors:\nRegional F
 amily Support Planning Council 4 (Essex County) is a group of volunteer fa
 mily members of inividuals with Intellectual/Developmental Disabilities wh
 o host public forums to obtain input to improve family support services pr
 ovided by the Department of Human Services (Division of Developmental Disa
 bilities) and Department of Children and Families. \nFor additional inform
 ation call: (609)-341-3112.\n\nFamily Support Organization of Essex County
  is funded by the Department of Children and Families to provide peer supp
 ort\, education and advocacy for families of children and youth with emoti
 onal\, behavioral\, mental health\, and Intellectual/Developmental challen
 ges.
X-WR-RELCALID:75699a8dd8e8bec2abdc30f6636c7c98
X-WR-TIMEZONE:America/New_York
BEGIN:VTIMEZONE
TZID:America/New_York
BEGIN:STANDARD
TZNAME:EST
DTSTART:20161106T020000
TZOFFSETFROM:-0400
TZOFFSETTO:-0500
RDATE:20171105T020000
RDATE:20181104T020000
END:STANDARD
BEGIN:DAYLIGHT
TZNAME:EDT
DTSTART:20170312T020000
TZOFFSETFROM:-0500
TZOFFSETTO:-0400
RDATE:20180311T020000
RDATE:20190310T020000
END:DAYLIGHT
END:VTIMEZONE
BEGIN:VEVENT
UID:58fdf801-a180-4aa2-a94b-81bfc4c358cc
DTSTAMP:20260424T025155Z
DESCRIPTION:Celebrate Disability Awareness Month \nFree Admission to Montcl
 air Art Museum and Information about Services for Children and Adults with
  Intellectual and Developmental Disabilities.\n\nCo-sponsors:\nRegional Fa
 mily Support Planning Council 4 (Essex County) is a group of volunteer fam
 ily members of inividuals with Intellectual/Developmental Disabilities who
  host public forums to obtain input to improve family support services pro
 vided by the Department of Human Services (Division of Developmental Disab
 ilities) and Department of Children and Families. \nFor additional informa
 tion call: (609)-341-3112.\n\nFamily Support Organization of Essex County 
 is funded by the Department of Children and Families to provide peer suppo
 rt\, education and advocacy for families of children and youth with emotio
 nal\, behavioral\, mental health\, and Intellectual/Developmental challeng
 es.
DTSTART;TZID=America/New_York:20171005T170000
DTEND;TZID=America/New_York:20171005T210000
LOCATION:Montclair Art Museum\, 3 S Mountain Ave Montclair
SUMMARY:Essex County Family Support Outreach Event
END:VEVENT
END:VCALENDAR
