BEGIN:VCALENDAR
VERSION:2.0
PRODID:-//www.thearcfamilyinstitute.org//NONSGML kigkonsult.se iCalcreator 
 2.30.10//
CALSCALE:GREGORIAN
METHOD:PUBLISH
UID:bef7fe58-b151-42c0-9e9c-912f00840d90
X-WR-CALDESC:
X-WR-RELCALID:a6ca24b3a165f08fe128c014c6a28139
X-WR-TIMEZONE:America/New_York
BEGIN:VTIMEZONE
TZID:America/New_York
BEGIN:STANDARD
TZNAME:EST
DTSTART:20161106T020000
TZOFFSETFROM:-0400
TZOFFSETTO:-0500
RDATE:20171105T020000
RDATE:20181104T020000
END:STANDARD
BEGIN:DAYLIGHT
TZNAME:EDT
DTSTART:20170312T020000
TZOFFSETFROM:-0500
TZOFFSETTO:-0400
RDATE:20180311T020000
RDATE:20190310T020000
END:DAYLIGHT
END:VTIMEZONE
BEGIN:VEVENT
UID:03e106e0-032f-4af2-a22d-4f5536f442ca
DTSTAMP:20260424T024756Z
DESCRIPTION:
DTSTART;TZID=America/New_York:20171004T183000
DTEND;TZID=America/New_York:20171004T203000
LOCATION:Bridgewater Library\, Room A\, 1 Vogt Drive\, Bridgewater\, NJ
SUMMARY:Informational Meeting (Somerset County)
END:VEVENT
END:VCALENDAR
