BEGIN:VCALENDAR
VERSION:2.0
PRODID:-//www.thearcfamilyinstitute.org//NONSGML kigkonsult.se iCalcreator 
 2.30.10//
CALSCALE:GREGORIAN
METHOD:PUBLISH
UID:9aae8226-5d17-4f93-9f58-3513a78318db
X-WR-CALDESC:From the The Boggs Center on Developmental Disabilities\, this
  session will focus on strategies to identify personally-defined desired o
 utcomes and implement personalized supports and services in a community ba
 sed agency serving individuals with intellectual and other developmental d
 isabilities. The use of individual and agency-wide qualitative and quantit
 ative data in addition to personalized information about the preferences a
 nd life goals of those supported to identify priorities for service delive
 ry will be presented. Practical solutions for day to day implementation of
  supports and services that promote personally identified outcomes\, along
  with success stories\, will also be shared.
X-WR-RELCALID:b49a65306525de3e2d2e92ea2cbdb118
X-WR-TIMEZONE:America/New_York
BEGIN:VTIMEZONE
TZID:America/New_York
BEGIN:STANDARD
TZNAME:EST
DTSTART:20161106T020000
TZOFFSETFROM:-0400
TZOFFSETTO:-0500
RDATE:20171105T020000
RDATE:20181104T020000
END:STANDARD
BEGIN:DAYLIGHT
TZNAME:EDT
DTSTART:20170312T020000
TZOFFSETFROM:-0500
TZOFFSETTO:-0400
RDATE:20180311T020000
RDATE:20190310T020000
END:DAYLIGHT
END:VTIMEZONE
BEGIN:VEVENT
UID:0cbe41bc-a43d-424e-9789-6c098b78422f
DTSTAMP:20260424T041115Z
DESCRIPTION:From the The Boggs Center on Developmental Disabilities\, this 
 session will focus on strategies to identify personally-defined desired ou
 tcomes and implement personalized supports and services in a community bas
 ed agency serving individuals with intellectual and other developmental di
 sabilities. The use of individual and agency-wide qualitative and quantita
 tive data in addition to personalized information about the preferences an
 d life goals of those supported to identify priorities for service deliver
 y will be presented. Practical solutions for day to day implementation of 
 supports and services that promote personally identified outcomes\, along 
 with success stories\, will also be shared.
DTSTART;TZID=America/New_York:20170928T090000
DTEND;TZID=America/New_York:20170928T100000
LOCATION:APA Hotel Woodbridge\, Iselin\, NJ
SUMMARY:Free Workshop: Implementing Personalized Supports
END:VEVENT
END:VCALENDAR
