BEGIN:VCALENDAR
VERSION:2.0
PRODID:-//www.thearcfamilyinstitute.org//NONSGML kigkonsult.se iCalcreator 
 2.30.10//
CALSCALE:GREGORIAN
METHOD:PUBLISH
UID:06eb14ca-45ac-4913-b397-5c01fd6b3046
X-WR-CALDESC:When you work with people with developmental disabilities\, si
 tuations may arise which result in criminal charges. What happens next?\n
 \nDuring this hour long webinar our speaker\, Attorney Marcy McMann\, an e
 xperienced criminal defense attorney\, will provide an overview of the cri
 minal justice system and how it affects clients with developmental disabil
 ities  when criminal charges are filed.
X-WR-RELCALID:825989bc94e2311b2ed8b976de083851
X-WR-TIMEZONE:America/New_York
BEGIN:VTIMEZONE
TZID:America/New_York
BEGIN:STANDARD
TZNAME:EST
DTSTART:20161106T020000
TZOFFSETFROM:-0400
TZOFFSETTO:-0500
RDATE:20171105T020000
RDATE:20181104T020000
END:STANDARD
BEGIN:DAYLIGHT
TZNAME:EDT
DTSTART:20170312T020000
TZOFFSETFROM:-0500
TZOFFSETTO:-0400
RDATE:20180311T020000
RDATE:20190310T020000
END:DAYLIGHT
END:VTIMEZONE
BEGIN:VEVENT
UID:1351ee58-b1f8-4d79-b21e-f4c3c99b1161
DTSTAMP:20260424T041721Z
DESCRIPTION:When you work with people with developmental disabilities\, sit
 uations may arise which result in criminal charges. What happens next?\n\n
 During this hour long webinar our speaker\, Attorney Marcy McMann\, an exp
 erienced criminal defense attorney\, will provide an overview of the crimi
 nal justice system and how it affects clients with developmental disabilit
 ies  when criminal charges are filed.
DTSTART;TZID=America/New_York:20170927T130000
DTEND;TZID=America/New_York:20170927T140000
LOCATION:
SUMMARY:Free Webinar: How Does Criminal Justice Reform  Impact Your Client 
 with Developmental  Disabilities When Arrested in NJ
END:VEVENT
END:VCALENDAR
