BEGIN:VCALENDAR
VERSION:2.0
PRODID:-//www.thearcfamilyinstitute.org//NONSGML kigkonsult.se iCalcreator 
 2.30.10//
CALSCALE:GREGORIAN
METHOD:PUBLISH
UID:a2dc344c-bf1a-4067-8f1d-7497d2706a32
X-WR-CALDESC:
X-WR-RELCALID:39a5fed9feec62dbc7056a4a03cb6eab
X-WR-TIMEZONE:America/New_York
BEGIN:VTIMEZONE
TZID:America/New_York
BEGIN:STANDARD
TZNAME:EST
DTSTART:20161106T020000
TZOFFSETFROM:-0400
TZOFFSETTO:-0500
RDATE:20171105T020000
RDATE:20181104T020000
END:STANDARD
BEGIN:DAYLIGHT
TZNAME:EDT
DTSTART:20170312T020000
TZOFFSETFROM:-0500
TZOFFSETTO:-0400
RDATE:20180311T020000
RDATE:20190310T020000
END:DAYLIGHT
END:VTIMEZONE
BEGIN:VEVENT
UID:7c8e2010-4586-4b67-8df7-7b527bccd1dc
DTSTAMP:20260424T041539Z
DESCRIPTION:
DTSTART;TZID=America/New_York:20170920T110000
DTEND;TZID=America/New_York:20170920T120000
LOCATION:The Arc Kohler School (entrance around back)\, 1137 Globe Avenue\,
  Mountainside\, NJ\, 07092
SUMMARY:The Arc of Union Parent Support Group
END:VEVENT
END:VCALENDAR
