BEGIN:VCALENDAR
VERSION:2.0
PRODID:-//www.thearcfamilyinstitute.org//NONSGML kigkonsult.se iCalcreator 
 2.30.10//
CALSCALE:GREGORIAN
METHOD:PUBLISH
UID:cafe4dd5-c29b-45a3-b03a-34a0e9b2bb27
X-WR-CALDESC:
X-WR-RELCALID:f49905305a87297666dcb9c8fd8d7476
X-WR-TIMEZONE:America/New_York
BEGIN:VTIMEZONE
TZID:America/New_York
BEGIN:STANDARD
TZNAME:EST
DTSTART:20161106T020000
TZOFFSETFROM:-0400
TZOFFSETTO:-0500
RDATE:20171105T020000
RDATE:20181104T020000
END:STANDARD
BEGIN:DAYLIGHT
TZNAME:EDT
DTSTART:20170312T020000
TZOFFSETFROM:-0500
TZOFFSETTO:-0400
RDATE:20180311T020000
RDATE:20190310T020000
END:DAYLIGHT
END:VTIMEZONE
BEGIN:VEVENT
UID:f8844190-efae-47f1-94dc-449defe25e9e
DTSTAMP:20260424T041313Z
DESCRIPTION:
DTSTART;TZID=America/New_York:20170920T100000
DTEND;TZID=America/New_York:20170920T113000
LOCATION:North Brunswick Municipal Building\, 710 Hermann Rd\, North Brunsw
 ick Township\, NJ 08902
SUMMARY:Assistive Technology (AT) Workshops
END:VEVENT
END:VCALENDAR
