BEGIN:VCALENDAR
VERSION:2.0
PRODID:-//www.thearcfamilyinstitute.org//NONSGML kigkonsult.se iCalcreator 
 2.30.10//
CALSCALE:GREGORIAN
METHOD:PUBLISH
UID:b7c7c91f-20e2-4a23-aa90-e3844041cea2
X-WR-CALDESC:Light snacks will be served.  Child care is available by reque
 st only.
X-WR-RELCALID:54cff6f92b049befa1982dc275e46e94
X-WR-TIMEZONE:America/New_York
BEGIN:VTIMEZONE
TZID:America/New_York
BEGIN:STANDARD
TZNAME:EST
DTSTART:20161106T020000
TZOFFSETFROM:-0400
TZOFFSETTO:-0500
RDATE:20171105T020000
RDATE:20181104T020000
END:STANDARD
BEGIN:DAYLIGHT
TZNAME:EDT
DTSTART:20170312T020000
TZOFFSETFROM:-0500
TZOFFSETTO:-0400
RDATE:20180311T020000
RDATE:20190310T020000
END:DAYLIGHT
END:VTIMEZONE
BEGIN:VEVENT
UID:0ddb6328-02fe-4dd9-b0da-edbc11289b14
DTSTAMP:20260424T041901Z
DESCRIPTION:Light snacks will be served.  Child care is available by reques
 t only.
DTSTART;TZID=America/New_York:20170919T183000
DTEND;TZID=America/New_York:20170919T193000
LOCATION:SCARC Community Center\, 4 Camre Drive\, Newton\, NJ
SUMMARY:SCARC (The Arc of Sussex): Effective Inclusive Education
END:VEVENT
END:VCALENDAR
