BEGIN:VCALENDAR
VERSION:2.0
PRODID:-//www.thearcfamilyinstitute.org//NONSGML kigkonsult.se iCalcreator 
 2.30.10//
CALSCALE:GREGORIAN
METHOD:PUBLISH
UID:8a48097f-0dd1-4451-85bd-32708d05e4dd
X-WR-CALDESC:United Way of Northern New Jersey Caregivers Coalition invites
  you to attend this free Munch & Learn presentation addressing transitioni
 ng your child with special needs into adulthood.\n\nPresented by Lee Ann G
 attorno\, Day Program Director with Mt. Bethel Village and Simone Waters\n
 Residential Director with Mt. Bethel Village. They will discuss some tips 
 on how to navigate the Division of Developmental Disabilities (DDD) system
  with fee for service\, different options for day programs and supportive 
 housing options.
X-WR-RELCALID:097f7f9097084e2689b86a53ab9a7205
X-WR-TIMEZONE:America/New_York
BEGIN:VTIMEZONE
TZID:America/New_York
BEGIN:STANDARD
TZNAME:EST
DTSTART:20161106T020000
TZOFFSETFROM:-0400
TZOFFSETTO:-0500
RDATE:20171105T020000
RDATE:20181104T020000
END:STANDARD
BEGIN:DAYLIGHT
TZNAME:EDT
DTSTART:20170312T020000
TZOFFSETFROM:-0500
TZOFFSETTO:-0400
RDATE:20180311T020000
RDATE:20190310T020000
END:DAYLIGHT
END:VTIMEZONE
BEGIN:VEVENT
UID:04d0c563-0a4d-4089-97ef-b8b02b15472c
DTSTAMP:20260424T041814Z
DESCRIPTION:United Way of Northern New Jersey Caregivers Coalition invites 
 you to attend this free Munch & Learn presentation addressing transitionin
 g your child with special needs into adulthood.\n\nPresented by Lee Ann Ga
 ttorno\, Day Program Director with Mt. Bethel Village and Simone Waters\nR
 esidential Director with Mt. Bethel Village. They will discuss some tips o
 n how to navigate the Division of Developmental Disabilities (DDD) system 
 with fee for service\, different options for day programs and supportive h
 ousing options.
DTSTART;TZID=America/New_York:20170919T173000
DTEND;TZID=America/New_York:20170919T193000
LOCATION:Mt. Bethel Village\, Warren\, NJ
SUMMARY:Free Workshop: Transitioning Your Child with Special Needs into Adu
 lthood (Warren County)
END:VEVENT
END:VCALENDAR
