BEGIN:VCALENDAR
VERSION:2.0
PRODID:-//www.thearcfamilyinstitute.org//NONSGML kigkonsult.se iCalcreator 
 2.30.10//
CALSCALE:GREGORIAN
METHOD:PUBLISH
UID:69e67c32-4402-4a1a-9e3a-02a194d0e667
X-WR-CALDESC:The law firm of Hinkle\, Fingles\, Prior and Fischer have a de
 ep professional commitment to disability law and are leaders in the field\
 , often asked by financial planners\, other attorneys and judges to consul
 t on complex matters. Many of their attorneys have argued precedent-settin
 g cases that have shaped the development of public policy in the field of 
 disability rights.\n\nLight snacks will be served.  Child care is availabl
 e by request only. Please RSVP by September 15\, 2017
X-WR-RELCALID:e4de165bd497922b97117b30ed190d4a
X-WR-TIMEZONE:America/New_York
BEGIN:VTIMEZONE
TZID:America/New_York
BEGIN:STANDARD
TZNAME:EST
DTSTART:20161106T020000
TZOFFSETFROM:-0400
TZOFFSETTO:-0500
RDATE:20171105T020000
RDATE:20181104T020000
END:STANDARD
BEGIN:DAYLIGHT
TZNAME:EDT
DTSTART:20170312T020000
TZOFFSETFROM:-0500
TZOFFSETTO:-0400
RDATE:20180311T020000
RDATE:20190310T020000
END:DAYLIGHT
END:VTIMEZONE
BEGIN:VEVENT
UID:6e799887-d9ad-4bdc-afa2-b3a3ef6db508
DTSTAMP:20260424T041908Z
DESCRIPTION:The law firm of Hinkle\, Fingles\, Prior and Fischer have a dee
 p professional commitment to disability law and are leaders in the field\,
  often asked by financial planners\, other attorneys and judges to consult
  on complex matters. Many of their attorneys have argued precedent-setting
  cases that have shaped the development of public policy in the field of d
 isability rights.\n\nLight snacks will be served.  Child care is available
  by request only. Please RSVP by September 15\, 2017
DTSTART;TZID=America/New_York:20170919T183000
DTEND;TZID=America/New_York:20170919T193000
LOCATION:SCARC Community Center\, 4 Camre Drive\, Newton\, NJ
SUMMARY:Free Workshop: Effective Inclusive Education (SCARC - The Arc of Su
 ssex)
END:VEVENT
END:VCALENDAR
