BEGIN:VCALENDAR
VERSION:2.0
PRODID:-//www.thearcfamilyinstitute.org//NONSGML kigkonsult.se iCalcreator 
 2.30.10//
CALSCALE:GREGORIAN
METHOD:PUBLISH
UID:6a5b430c-badc-4d50-bc0b-21b497af0441
X-WR-CALDESC:Join us as we discuss the benefits of an inclusive education a
 nd how you can make a difference.
X-WR-RELCALID:f99236d6c0a5b2b57fe599b3a66a3c7d
X-WR-TIMEZONE:America/New_York
BEGIN:VTIMEZONE
TZID:America/New_York
BEGIN:STANDARD
TZNAME:EST
DTSTART:20161106T020000
TZOFFSETFROM:-0400
TZOFFSETTO:-0500
RDATE:20171105T020000
RDATE:20181104T020000
END:STANDARD
BEGIN:DAYLIGHT
TZNAME:EDT
DTSTART:20170312T020000
TZOFFSETFROM:-0500
TZOFFSETTO:-0400
RDATE:20180311T020000
RDATE:20190310T020000
END:DAYLIGHT
END:VTIMEZONE
BEGIN:VEVENT
UID:2f624ee8-7158-4b85-9332-38ab5b2b1b99
DTSTAMP:20260424T041845Z
DESCRIPTION:Join us as we discuss the benefits of an inclusive education an
 d how you can make a difference.
DTSTART;TZID=America/New_York:20170919T120000
DTEND;TZID=America/New_York:20170919T130000
LOCATION:
SUMMARY:Free Webinar: Lunch & Learn: The Benefits of an Inclusive Education
END:VEVENT
END:VCALENDAR
