BEGIN:VCALENDAR
VERSION:2.0
PRODID:-//www.thearcfamilyinstitute.org//NONSGML kigkonsult.se iCalcreator 
 2.30.10//
CALSCALE:GREGORIAN
METHOD:PUBLISH
UID:8d64a0d5-603b-4837-ab5d-6cdc4c628c79
X-WR-CALDESC:Join consumers and professionals for a day of learning and sha
 ring about all areas of Assistive Technology.\nSessions will include:\nAT 
 Supports for the Classroom\nWorkplace accommodations\nTransition services 
 / strategies\nAugmentative and Alternative Communication\nSmart home techn
 ology / Internet of Things
X-WR-RELCALID:ed735f52982efc987da15adf59d66b17
X-WR-TIMEZONE:America/New_York
BEGIN:VTIMEZONE
TZID:America/New_York
BEGIN:STANDARD
TZNAME:EST
DTSTART:20161106T020000
TZOFFSETFROM:-0400
TZOFFSETTO:-0500
RDATE:20171105T020000
RDATE:20181104T020000
END:STANDARD
BEGIN:DAYLIGHT
TZNAME:EDT
DTSTART:20170312T020000
TZOFFSETFROM:-0500
TZOFFSETTO:-0400
RDATE:20180311T020000
RDATE:20190310T020000
END:DAYLIGHT
END:VTIMEZONE
BEGIN:VEVENT
UID:31bb13c2-cb5b-4c75-aa33-6ffd70268a00
DTSTAMP:20260424T041150Z
DESCRIPTION:Join consumers and professionals for a day of learning and shar
 ing about all areas of Assistive Technology.\nSessions will include:\nAT S
 upports for the Classroom\nWorkplace accommodations\nTransition services /
  strategies\nAugmentative and Alternative Communication\nSmart home techno
 logy / Internet of Things
DTSTART;TZID=America/New_York:20170919T083000
DTEND;TZID=America/New_York:20170919T153000
LOCATION:The Conference Center at Mercer Community College
SUMMARY:Assistive Technology Summit
END:VEVENT
END:VCALENDAR
