BEGIN:VCALENDAR
VERSION:2.0
PRODID:-//www.thearcfamilyinstitute.org//NONSGML kigkonsult.se iCalcreator 
 2.30.10//
CALSCALE:GREGORIAN
METHOD:PUBLISH
UID:cdabaf6e-0bcb-4b6a-9481-9130d018c98d
X-WR-CALDESC:Public Partnership (PPL) has accepted the Family Support Plann
 ing Council's invitation to our statewide meeting on Saturday\, September 
 16\, 2017. PPL will have a full team of PPP managers and supervisors able 
 to attend.  DDS Director Joe Amoroso will also be in attendance regarding 
 the PPP Program.  We are also in the process of confirming PPL managers re
 lated to DDD Fiscal Intermediary services as well as representatives from 
 DDD to be in attendance at the meeting.  PPL will also provide an overview
  of the BetterOnline Portal. \n \nThe Family Support Planning Council will
  provide questions to PPL in advance of the onsite Q&A session so please s
 ubmit general questions to the Family Support Planning Council ASAP and ho
 ld individuals questions for one-on-one sessions. \n \nPPL is prepared to 
 provide ON-SITE One-on-One Consultation Sessions.\n \nThe Family Support P
 lanning Council has also invited representatives the Republican and Democr
 atic Gubernatorial candidates to attend the meeting to discuss their Polic
 y Positions on Disability Services.  More details will follow.
X-WR-RELCALID:65416f14a03e4954ded884304b1b8857
X-WR-TIMEZONE:America/New_York
BEGIN:VTIMEZONE
TZID:America/New_York
BEGIN:STANDARD
TZNAME:EST
DTSTART:20161106T020000
TZOFFSETFROM:-0400
TZOFFSETTO:-0500
RDATE:20171105T020000
RDATE:20181104T020000
END:STANDARD
BEGIN:DAYLIGHT
TZNAME:EDT
DTSTART:20170312T020000
TZOFFSETFROM:-0500
TZOFFSETTO:-0400
RDATE:20180311T020000
RDATE:20190310T020000
END:DAYLIGHT
END:VTIMEZONE
BEGIN:VEVENT
UID:2cf4b0e9-3991-4f9c-8fcb-b68aa918b09c
DTSTAMP:20260424T041318Z
DESCRIPTION:Public Partnership (PPL) has accepted the Family Support Planni
 ng Council's invitation to our statewide meeting on Saturday\, September 1
 6\, 2017. PPL will have a full team of PPP managers and supervisors able t
 o attend.  DDS Director Joe Amoroso will also be in attendance regarding t
 he PPP Program.  We are also in the process of confirming PPL managers rel
 ated to DDD Fiscal Intermediary services as well as representatives from D
 DD to be in attendance at the meeting.  PPL will also provide an overview 
 of the BetterOnline Portal. \n \nThe Family Support Planning Council will 
 provide questions to PPL in advance of the onsite Q&A session so please su
 bmit general questions to the Family Support Planning Council ASAP and hol
 d individuals questions for one-on-one sessions. \n \nPPL is prepared to p
 rovide ON-SITE One-on-One Consultation Sessions.\n \nThe Family Support Pl
 anning Council has also invited representatives the Republican and Democra
 tic Gubernatorial candidates to attend the meeting to discuss their Policy
  Positions on Disability Services.  More details will follow.
DTSTART;TZID=America/New_York:20170916T103000
DTEND;TZID=America/New_York:20170916T150000
LOCATION:DDD Hamilton Office\, 5 Commerce Way\, Suite 100\, Hamilton NJ 086
 91
SUMMARY:PPL Onsite Consultation
END:VEVENT
END:VCALENDAR
