BEGIN:VCALENDAR
VERSION:2.0
PRODID:-//www.thearcfamilyinstitute.org//NONSGML kigkonsult.se iCalcreator 
 2.30.10//
CALSCALE:GREGORIAN
METHOD:PUBLISH
UID:db17551a-66ba-4303-9f5c-aed243d51a4b
X-WR-CALDESC:Public Partnership (PPL) has accepted the Family Support Plann
 ing Council's invitation to our statewide meeting on Saturday\, September 
 16\, 2017. PPL will have a full team of PPP managers and supervisors able 
 to attend.  DDS Director Joe Amoroso will also be in attendance regarding 
 the PPP Program.  We are also in the process of confirming PPL managers re
 lated to DDD Fiscal Intermediary services as well as representatives from 
 DDD to be in attendance at the meeting.  PPL will also provide an overview
  of the BetterOnline Portal. \n\nThe Family Support Planning Council will 
 provide questions to PPL in advance of the onsite Q&A\; session so please 
 submit general questions to our Statewide Coordinator\, Kyoko Coco\, Kyoko
 .Coco@njcdd.org\, by September 8\, 2017 and hold individuals questions for
  one-on-one sessions. \n\nPPL is prepared to provide ON-SITE One-on-One Co
 nsultation Sessions.\n\nThe Family Support Planning Council has also invit
 ed representatives the Republican and Democratic Gubernatorial candidates 
 to attend the meeting to discuss their Policy Positions on Disability Serv
 ices.   \n\nAgenda (tentative)\n\n9:30AM: Registration and Continental Bre
 akfast\n\n10AM to 1PM: Group Q&A\; with Public Partnership (PPL)\, Divisio
 n of Disability Services and Division of Developmental Disabilieis (invite
 d) \n\n1PM to 2PM: Dialogue session with the Gubernaorial Candicates (invi
 ted)\n\n2PM to 3PM: Discussion regarding statewide changes affecting peopl
 e with Intellectual/Developmental Disabilities and their families\n\n***On
 e-to-One Consultation will be held in separate rooms after the group Q&A\;
 ***\n\n***PPL is only permitted to speak with the individuals enrolled or 
 his/her Authorized Representative.  PPL will speak with a Guardian if they
  are not the Authorized Representative\, but the Guardian will need to bri
 ng proof of guardianship to the meeting.***\n\nContinental breakfast and l
 unch will be provided. 	\nHello\, \nYou are invited to the following event:
 \n\nNJ FAMILY SUPPORT PLANNING COUNCIL STATEWIDE MEETING\ndivider\n 	\nEven
 t to be held at the following time\, date\, and location:\n\nSaturday\, Se
 ptember 16\, 2017 from 9:30 AM to 3:00 PM\n\nDivision of Developmental Dis
 abilities\n5 Commerce Way\nSuite 100\nHamilton\, NJ 08691\n\nView Map\n\nA
 ttend Event\nShare this event:\n Facebook	 Twitter	 LinkedIn\ndivider\nYou a
 re cordially invited to the New Jersey Family Support Planning Council's S
 tatewide meeting!\n\nPublic Partnership (PPL) has accepted the Family Supp
 ort Planning Council's invitation to our statewide meeting on Saturday\, S
 eptember 16\, 2017. PPL will have a full team of PPP managers and supervis
 ors able to attend.  DDS Director Joe Amoroso will also be in attendance r
 egarding the PPP Program.  We are also in the process of confirming PPL ma
 nagers related to DDD Fiscal Intermediary services as well as representati
 ves from DDD to be in attendance at the meeting.  PPL will also provide an
  overview of the BetterOnline Portal. \n\nThe Family Support Planning Coun
 cil will provide questions to PPL in advance of the onsite Q&A\; session s
 o please submit general questions to our Statewide Coordinator\, Kyoko Coc
 o\, Kyoko.Coco@njcdd.org\, by September 8\, 2017 and hold individuals ques
 tions for one-on-one sessions. \n\nPPL is prepared to provide ON-SITE One-
 on-One Consultation Sessions.\n\nThe Family Support Planning Council has a
 lso invited representatives the Republican and Democratic Gubernatorial ca
 ndidates to attend the meeting to discuss their Policy Positions on Disabi
 lity Services.   \n\nAgenda (tentative)\n\n9:30AM: Registration and Contin
 ental Breakfast\n\n10AM to 1PM: Group Q&A\; with Public Partnership (PPL)\
 , Division of Disability Services and Division of Developmental Disabiliei
 s (invited) \n\n1PM to 2PM: Dialogue session with the Gubernaorial Candica
 tes (invited)\n\n2PM to 3PM: Discussion regarding statewide changes affect
 ing people with Intellectual/Developmental Disabilities and their families
 \n\n***One-to-One Consultation will be held in separate rooms after the gr
 oup Q&A\;***\n\n***PPL is only permitted to speak with the individuals enr
 olled or his/her Authorized Representative.  PPL will speak with a Guardia
 n if they are not the Authorized Representative\, but the Guardian will ne
 ed to bring proof of guardianship to the meeting.***\n\nContinental breakf
 ast and lunch will be provided. Space is limited on a first-come first-ser
 ved basis. RSVP required.
X-WR-RELCALID:20e69901c69fdc55446aa649f26ad6fd
X-WR-TIMEZONE:America/New_York
BEGIN:VTIMEZONE
TZID:America/New_York
BEGIN:STANDARD
TZNAME:EST
DTSTART:20161106T020000
TZOFFSETFROM:-0400
TZOFFSETTO:-0500
RDATE:20171105T020000
RDATE:20181104T020000
END:STANDARD
BEGIN:DAYLIGHT
TZNAME:EDT
DTSTART:20170312T020000
TZOFFSETFROM:-0500
TZOFFSETTO:-0400
RDATE:20180311T020000
RDATE:20190310T020000
END:DAYLIGHT
END:VTIMEZONE
BEGIN:VEVENT
UID:3191e094-23a0-4ac2-9599-246b2e754635
DTSTAMP:20260424T041728Z
DESCRIPTION:Public Partnership (PPL) has accepted the Family Support Planni
 ng Council's invitation to our statewide meeting on Saturday\, September 1
 6\, 2017. PPL will have a full team of PPP managers and supervisors able t
 o attend.  DDS Director Joe Amoroso will also be in attendance regarding t
 he PPP Program.  We are also in the process of confirming PPL managers rel
 ated to DDD Fiscal Intermediary services as well as representatives from D
 DD to be in attendance at the meeting.  PPL will also provide an overview 
 of the BetterOnline Portal. \n\nThe Family Support Planning Council will p
 rovide questions to PPL in advance of the onsite Q&A\; session so please s
 ubmit general questions to our Statewide Coordinator\, Kyoko Coco\, Kyoko.
 Coco@njcdd.org\, by September 8\, 2017 and hold individuals questions for 
 one-on-one sessions. \n\nPPL is prepared to provide ON-SITE One-on-One Con
 sultation Sessions.\n\nThe Family Support Planning Council has also invite
 d representatives the Republican and Democratic Gubernatorial candidates t
 o attend the meeting to discuss their Policy Positions on Disability Servi
 ces.   \n\nAgenda (tentative)\n\n9:30AM: Registration and Continental Brea
 kfast\n\n10AM to 1PM: Group Q&A\; with Public Partnership (PPL)\, Division
  of Disability Services and Division of Developmental Disabilieis (invited
 ) \n\n1PM to 2PM: Dialogue session with the Gubernaorial Candicates (invit
 ed)\n\n2PM to 3PM: Discussion regarding statewide changes affecting people
  with Intellectual/Developmental Disabilities and their families\n\n***One
 -to-One Consultation will be held in separate rooms after the group Q&A\;*
 **\n\n***PPL is only permitted to speak with the individuals enrolled or h
 is/her Authorized Representative.  PPL will speak with a Guardian if they 
 are not the Authorized Representative\, but the Guardian will need to brin
 g proof of guardianship to the meeting.***\n\nContinental breakfast and lu
 nch will be provided. 	\nHello\, \nYou are invited to the following event:
 \n\nNJ FAMILY SUPPORT PLANNING COUNCIL STATEWIDE MEETING\ndivider\n 	\nEven
 t to be held at the following time\, date\, and location:\n\nSaturday\, Se
 ptember 16\, 2017 from 9:30 AM to 3:00 PM\n\nDivision of Developmental Dis
 abilities\n5 Commerce Way\nSuite 100\nHamilton\, NJ 08691\n\nView Map\n\nA
 ttend Event\nShare this event:\n Facebook	 Twitter	 LinkedIn\ndivider\nYou a
 re cordially invited to the New Jersey Family Support Planning Council's S
 tatewide meeting!\n\nPublic Partnership (PPL) has accepted the Family Supp
 ort Planning Council's invitation to our statewide meeting on Saturday\, S
 eptember 16\, 2017. PPL will have a full team of PPP managers and supervis
 ors able to attend.  DDS Director Joe Amoroso will also be in attendance r
 egarding the PPP Program.  We are also in the process of confirming PPL ma
 nagers related to DDD Fiscal Intermediary services as well as representati
 ves from DDD to be in attendance at the meeting.  PPL will also provide an
  overview of the BetterOnline Portal. \n\nThe Family Support Planning Coun
 cil will provide questions to PPL in advance of the onsite Q&A\; session s
 o please submit general questions to our Statewide Coordinator\, Kyoko Coc
 o\, Kyoko.Coco@njcdd.org\, by September 8\, 2017 and hold individuals ques
 tions for one-on-one sessions. \n\nPPL is prepared to provide ON-SITE One-
 on-One Consultation Sessions.\n\nThe Family Support Planning Council has a
 lso invited representatives the Republican and Democratic Gubernatorial ca
 ndidates to attend the meeting to discuss their Policy Positions on Disabi
 lity Services.   \n\nAgenda (tentative)\n\n9:30AM: Registration and Contin
 ental Breakfast\n\n10AM to 1PM: Group Q&A\; with Public Partnership (PPL)\
 , Division of Disability Services and Division of Developmental Disabiliei
 s (invited) \n\n1PM to 2PM: Dialogue session with the Gubernaorial Candica
 tes (invited)\n\n2PM to 3PM: Discussion regarding statewide changes affect
 ing people with Intellectual/Developmental Disabilities and their families
 \n\n***One-to-One Consultation will be held in separate rooms after the gr
 oup Q&A\;***\n\n***PPL is only permitted to speak with the individuals enr
 olled or his/her Authorized Representative.  PPL will speak with a Guardia
 n if they are not the Authorized Representative\, but the Guardian will ne
 ed to bring proof of guardianship to the meeting.***\n\nContinental breakf
 ast and lunch will be provided. Space is limited on a first-come first-ser
 ved basis. RSVP required.
DTSTART;TZID=America/New_York:20170916T093000
DTEND;TZID=America/New_York:20170916T150000
LOCATION:Division of Developmental Disabilities\, 5 Commerce Way\, Suite 10
 0\, Hamilton\, NJ 08691
SUMMARY:Family Support Planning Council Statewide Meeting
END:VEVENT
END:VCALENDAR
