BEGIN:VCALENDAR
VERSION:2.0
PRODID:-//www.thearcfamilyinstitute.org//NONSGML kigkonsult.se iCalcreator 
 2.30.10//
CALSCALE:GREGORIAN
METHOD:PUBLISH
UID:3adffd7b-d771-4214-95fb-99267e37b5ef
X-WR-CALDESC:Hosted by The Arc of New Jersey Family Institute and presented
  by Deb Werhlen from the Supportive Housing Association of New Jersey\, th
 is webinar will help attendees gain insight on how to utilize resources av
 ailable to them from multiple sources to fund housing and supportive servi
 ces.  \n
X-WR-RELCALID:ec12fdf1f193969601d1545adfa688b8
X-WR-TIMEZONE:America/New_York
BEGIN:VTIMEZONE
TZID:America/New_York
BEGIN:STANDARD
TZNAME:EST
DTSTART:20161106T020000
TZOFFSETFROM:-0400
TZOFFSETTO:-0500
RDATE:20171105T020000
RDATE:20181104T020000
END:STANDARD
BEGIN:DAYLIGHT
TZNAME:EDT
DTSTART:20170312T020000
TZOFFSETFROM:-0500
TZOFFSETTO:-0400
RDATE:20180311T020000
RDATE:20190310T020000
END:DAYLIGHT
END:VTIMEZONE
BEGIN:VEVENT
UID:4732b740-3966-4ef4-84b6-3cfc81b1447c
DTSTAMP:20260424T041733Z
DESCRIPTION:Hosted by The Arc of New Jersey Family Institute and presented 
 by Deb Werhlen from the Supportive Housing Association of New Jersey\, thi
 s webinar will help attendees gain insight on how to utilize resources ava
 ilable to them from multiple sources to fund housing and supportive servic
 es.  \n
DTSTART;TZID=America/New_York:20170913T180000
DTEND;TZID=America/New_York:20170913T190000
LOCATION:
SUMMARY:Free Webinar: The Journey to Community Housing with Supports
END:VEVENT
END:VCALENDAR
