BEGIN:VCALENDAR
VERSION:2.0
PRODID:-//www.thearcfamilyinstitute.org//NONSGML kigkonsult.se iCalcreator 
 2.30.10//
CALSCALE:GREGORIAN
METHOD:PUBLISH
UID:85d03824-54f7-42f2-9131-a8a43ad3c39b
X-WR-CALDESC:Join us as we talk about the IEP process\, what to look for\, 
 and how to get started.
X-WR-RELCALID:4a5710c36b4ce842cfee40b9e48a0214
X-WR-TIMEZONE:America/New_York
BEGIN:VTIMEZONE
TZID:America/New_York
BEGIN:STANDARD
TZNAME:EST
DTSTART:20161106T020000
TZOFFSETFROM:-0400
TZOFFSETTO:-0500
RDATE:20171105T020000
RDATE:20181104T020000
END:STANDARD
BEGIN:DAYLIGHT
TZNAME:EDT
DTSTART:20170312T020000
TZOFFSETFROM:-0500
TZOFFSETTO:-0400
RDATE:20180311T020000
RDATE:20190310T020000
END:DAYLIGHT
END:VTIMEZONE
BEGIN:VEVENT
UID:822be656-67e2-4254-a287-5faaa418b2c0
DTSTAMP:20260424T041325Z
DESCRIPTION:Join us as we talk about the IEP process\, what to look for\, a
 nd how to get started.
DTSTART;TZID=America/New_York:20170912T120000
DTEND;TZID=America/New_York:20170912T130000
LOCATION:
SUMMARY:Free Webinar: Lunch & Learn: IEP Basics
END:VEVENT
END:VCALENDAR
