BEGIN:VCALENDAR
VERSION:2.0
PRODID:-//www.thearcfamilyinstitute.org//NONSGML kigkonsult.se iCalcreator 
 2.30.10//
CALSCALE:GREGORIAN
METHOD:PUBLISH
UID:3d62af43-2da5-461d-8e9c-d72deb69d0f2
X-WR-CALDESC:
X-WR-RELCALID:653beea45047bbbfe77ff9bb4f0def43
X-WR-TIMEZONE:America/New_York
BEGIN:VTIMEZONE
TZID:America/New_York
BEGIN:STANDARD
TZNAME:EST
DTSTART:20161106T020000
TZOFFSETFROM:-0400
TZOFFSETTO:-0500
RDATE:20171105T020000
RDATE:20181104T020000
END:STANDARD
BEGIN:DAYLIGHT
TZNAME:EDT
DTSTART:20170312T020000
TZOFFSETFROM:-0500
TZOFFSETTO:-0400
RDATE:20180311T020000
END:DAYLIGHT
END:VTIMEZONE
BEGIN:VEVENT
UID:1fe2be4c-5402-4588-8a4a-2ef21fd3d243
DTSTAMP:20260424T070212Z
DESCRIPTION:
DTSTART;TZID=America/New_York:20170719T190000
DTEND;TZID=America/New_York:20170719T203000
LOCATION:Atlantic FSO\, Northfield
SUMMARY:Assistive Technology (AT) Workshops
END:VEVENT
END:VCALENDAR
