BEGIN:VCALENDAR
VERSION:2.0
PRODID:-//www.thearcfamilyinstitute.org//NONSGML kigkonsult.se iCalcreator 
 2.30.10//
CALSCALE:GREGORIAN
METHOD:PUBLISH
UID:e2b97f48-68d5-434c-9403-0d52fb79881d
X-WR-CALDESC:Join us as we discuss support coordination\, how to apply and 
 what you can do to make certain that the agency is the 'right fit' for you
 r family.
X-WR-RELCALID:8d61ddba374aa95ec182902af277767c
X-WR-TIMEZONE:America/New_York
BEGIN:VTIMEZONE
TZID:America/New_York
BEGIN:STANDARD
TZNAME:EST
DTSTART:20161106T020000
TZOFFSETFROM:-0400
TZOFFSETTO:-0500
RDATE:20171105T020000
RDATE:20181104T020000
END:STANDARD
BEGIN:DAYLIGHT
TZNAME:EDT
DTSTART:20170312T020000
TZOFFSETFROM:-0500
TZOFFSETTO:-0400
RDATE:20180311T020000
END:DAYLIGHT
END:VTIMEZONE
BEGIN:VEVENT
UID:cd7f2edb-ee24-403b-ac5c-434095d2d754
DTSTAMP:20260424T065259Z
DESCRIPTION:Join us as we discuss support coordination\, how to apply and w
 hat you can do to make certain that the agency is the 'right fit' for your
  family.
DTSTART;TZID=America/New_York:20170718T120000
DTEND;TZID=America/New_York:20170718T130000
LOCATION:
SUMMARY:Webinar: Lunch & Learn: Support Coordination - What Families Need t
 o Know
END:VEVENT
END:VCALENDAR
