BEGIN:VCALENDAR
VERSION:2.0
PRODID:-//www.thearcfamilyinstitute.org//NONSGML kigkonsult.se iCalcreator 
 2.30.10//
CALSCALE:GREGORIAN
METHOD:PUBLISH
UID:0ec0e7d5-47e6-472a-97db-ff162201d643
X-WR-CALDESC:
X-WR-RELCALID:51d44a71dcb65a64493bb7cfe68de010
X-WR-TIMEZONE:America/New_York
BEGIN:VTIMEZONE
TZID:America/New_York
BEGIN:STANDARD
TZNAME:EST
DTSTART:20161106T020000
TZOFFSETFROM:-0400
TZOFFSETTO:-0500
RDATE:20171105T020000
RDATE:20181104T020000
END:STANDARD
BEGIN:DAYLIGHT
TZNAME:EDT
DTSTART:20170312T020000
TZOFFSETFROM:-0500
TZOFFSETTO:-0400
RDATE:20180311T020000
END:DAYLIGHT
END:VTIMEZONE
BEGIN:VEVENT
UID:84f9f5d7-087e-4847-98d7-693211670a37
DTSTAMP:20260424T064726Z
DESCRIPTION:
DTSTART;TZID=America/New_York:20170712T100000
DTEND;TZID=America/New_York:20170712T113000
LOCATION:SPAN Office\, Newark
SUMMARY:Assistive Technology (AT) Workshops
END:VEVENT
END:VCALENDAR
