BEGIN:VCALENDAR
VERSION:2.0
PRODID:-//www.thearcfamilyinstitute.org//NONSGML kigkonsult.se iCalcreator 
 2.30.10//
CALSCALE:GREGORIAN
METHOD:PUBLISH
UID:2b4e36ef-67aa-4ff1-8661-1691710e995a
X-WR-CALDESC:The ORIGINAL comprehensive New Jersey conference focused solel
 y on inclusive education shares with attendees: the benefits\, process\, s
 tandards and goals to support student growth and the meaningful education 
 of ALL children\; applicable training and information based on practical e
 xperiences in how to make multi-ability classrooms work for ALL!
X-WR-RELCALID:0e392c67250d00f6e9999bba732f199b
X-WR-TIMEZONE:America/New_York
BEGIN:VTIMEZONE
TZID:America/New_York
BEGIN:STANDARD
TZNAME:EST
DTSTART:20161106T020000
TZOFFSETFROM:-0400
TZOFFSETTO:-0500
RDATE:20171105T020000
RDATE:20181104T020000
END:STANDARD
BEGIN:DAYLIGHT
TZNAME:EDT
DTSTART:20170312T020000
TZOFFSETFROM:-0500
TZOFFSETTO:-0400
RDATE:20180311T020000
END:DAYLIGHT
END:VTIMEZONE
BEGIN:VEVENT
UID:01d394cb-7795-4dad-911d-c5bc27c2e94c
DTSTAMP:20260424T082053Z
DESCRIPTION:The ORIGINAL comprehensive New Jersey conference focused solely
  on inclusive education shares with attendees: the benefits\, process\, st
 andards and goals to support student growth and the meaningful education o
 f ALL children\; applicable training and information based on practical ex
 periences in how to make multi-ability classrooms work for ALL!
DTSTART;TZID=America/New_York:20170627T000000
DTEND;TZID=America/New_York:20170628T235900
LOCATION:Montclair State University\, 1 Normal Ave\, Montclair\, NJ 07043
SUMMARY:NJCIE's 15th Annual Summer Inclusion Conference
END:VEVENT
END:VCALENDAR
