BEGIN:VCALENDAR
VERSION:2.0
PRODID:-//www.thearcfamilyinstitute.org//NONSGML kigkonsult.se iCalcreator 
 2.30.10//
CALSCALE:GREGORIAN
METHOD:PUBLISH
UID:a135ebfe-a98d-4f67-a318-d0938b4f6d52
X-WR-CALDESC:
X-WR-RELCALID:982299cdb8f33e9023ab29f6845889c9
X-WR-TIMEZONE:America/New_York
BEGIN:VTIMEZONE
TZID:America/New_York
BEGIN:STANDARD
TZNAME:EST
DTSTART:20161106T020000
TZOFFSETFROM:-0400
TZOFFSETTO:-0500
RDATE:20171105T020000
RDATE:20181104T020000
END:STANDARD
BEGIN:DAYLIGHT
TZNAME:EDT
DTSTART:20170312T020000
TZOFFSETFROM:-0500
TZOFFSETTO:-0400
RDATE:20180311T020000
END:DAYLIGHT
END:VTIMEZONE
BEGIN:VEVENT
UID:eae7cfcd-72ac-4572-9816-ea9890aa62b8
DTSTAMP:20260424T083206Z
DESCRIPTION:
DTSTART;TZID=America/New_York:20170627T180000
DTEND;TZID=America/New_York:20170627T200000
LOCATION:EMPOWER Family Success Center\, 34 West Main Street\, Suite 201\, 
 Somerville\, NJ 08876
SUMMARY:Free Workshop: Understanding Sexuality in Youth with Intellectual a
 nd Developmental Disabilities: A Guide for Families
END:VEVENT
END:VCALENDAR
