BEGIN:VCALENDAR
VERSION:2.0
PRODID:-//www.thearcfamilyinstitute.org//NONSGML kigkonsult.se iCalcreator 
 2.30.10//
CALSCALE:GREGORIAN
METHOD:PUBLISH
UID:81f48ce3-299d-4b38-ac2d-2c7f2ecf5345
X-WR-CALDESC:
X-WR-RELCALID:695ea90db66b10aa2a2c060307caed18
X-WR-TIMEZONE:America/New_York
BEGIN:VTIMEZONE
TZID:America/New_York
BEGIN:STANDARD
TZNAME:EST
DTSTART:20161106T020000
TZOFFSETFROM:-0400
TZOFFSETTO:-0500
RDATE:20171105T020000
RDATE:20181104T020000
END:STANDARD
BEGIN:DAYLIGHT
TZNAME:EDT
DTSTART:20170312T020000
TZOFFSETFROM:-0500
TZOFFSETTO:-0400
RDATE:20180311T020000
END:DAYLIGHT
END:VTIMEZONE
BEGIN:VEVENT
UID:500e4aa2-921c-4050-80d4-1c960e59892a
DTSTAMP:20260424T081531Z
DESCRIPTION:
DTSTART;TZID=America/New_York:20170624T000000
DTEND;TZID=America/New_York:20170625T235900
LOCATION:
SUMMARY:Sibling Leadership Network Annual Conference
END:VEVENT
END:VCALENDAR
