BEGIN:VCALENDAR
VERSION:2.0
PRODID:-//www.thearcfamilyinstitute.org//NONSGML kigkonsult.se iCalcreator 
 2.30.10//
CALSCALE:GREGORIAN
METHOD:PUBLISH
UID:5faa7ab2-def0-4a7b-8489-7997a53b658d
X-WR-CALDESC:The presentation will discuss how to utilize SHA’s recently pu
 blished housing guide\, The Journey to Community Housing with Supports\, t
 o assist individuals with intellectual and developmental disabilities and 
 their families in accessing community housing and supports in New Jersey. 
 The guide will serve as the basis of information to describe a variety of 
 housing models. The presenter will discuss how these innovative elements c
 an be incorporated into affordable housing in a variety of residential set
 tings. Participants will gain insights on how to utilize the resources ava
 ilable from multiple sources to fund housing and supportive services\, as 
 well as the challenges but clear opportunities associated with planning fo
 r living more independently.
X-WR-RELCALID:5c5ca95c8050c5a5f54328bba0771603
X-WR-TIMEZONE:America/New_York
BEGIN:VTIMEZONE
TZID:America/New_York
BEGIN:STANDARD
TZNAME:EST
DTSTART:20161106T020000
TZOFFSETFROM:-0400
TZOFFSETTO:-0500
RDATE:20171105T020000
RDATE:20181104T020000
END:STANDARD
BEGIN:DAYLIGHT
TZNAME:EDT
DTSTART:20170312T020000
TZOFFSETFROM:-0500
TZOFFSETTO:-0400
RDATE:20180311T020000
END:DAYLIGHT
END:VTIMEZONE
BEGIN:VEVENT
UID:4924473a-2458-4695-be00-5d14769cab9c
DTSTAMP:20260424T083335Z
DESCRIPTION:The presentation will discuss how to utilize SHA’s recently pub
 lished housing guide\, The Journey to Community Housing with Supports\, to
  assist individuals with intellectual and developmental disabilities and t
 heir families in accessing community housing and supports in New Jersey. T
 he guide will serve as the basis of information to describe a variety of h
 ousing models. The presenter will discuss how these innovative elements ca
 n be incorporated into affordable housing in a variety of residential sett
 ings. Participants will gain insights on how to utilize the resources avai
 lable from multiple sources to fund housing and supportive services\, as w
 ell as the challenges but clear opportunities associated with planning for
  living more independently.
DTSTART;TZID=America/New_York:20170622T180000
DTEND;TZID=America/New_York:20170622T200000
LOCATION:The Arc\, Ocean County Chapter\, 815 Cedar Bridge Ave\, Lakewood\,
  NJ 08701
SUMMARY:Free Housing Workshop: The Journey to Community Housing with Suppor
 ts (Ocean County)
END:VEVENT
END:VCALENDAR
