BEGIN:VCALENDAR
VERSION:2.0
PRODID:-//www.thearcfamilyinstitute.org//NONSGML kigkonsult.se iCalcreator 
 2.30.10//
CALSCALE:GREGORIAN
METHOD:PUBLISH
UID:134b5e34-145d-4ce7-a25c-93f1be7db4e2
X-WR-CALDESC:HappyFest Obstacle Course & Festival is the country's very fir
 st all-ages\, all-abilities accessible obstacle course.  It is designed th
 at that all friends and family can do the course and cross the finish line
  TOGETHER.  Every single obstacle on the 1+ mile course has an alternative
  option\, for all who choose\, which is wheelchair accessible.  The day is
  about family fitness\, togetherness and inclusion.\n\n Use promo code The
 Arc for a special rate of $25.
X-WR-RELCALID:2e2f940e83c3ea87349d097245a9af22
X-WR-TIMEZONE:America/New_York
BEGIN:VTIMEZONE
TZID:America/New_York
BEGIN:STANDARD
TZNAME:EST
DTSTART:20161106T020000
TZOFFSETFROM:-0400
TZOFFSETTO:-0500
RDATE:20171105T020000
RDATE:20181104T020000
END:STANDARD
BEGIN:DAYLIGHT
TZNAME:EDT
DTSTART:20170312T020000
TZOFFSETFROM:-0500
TZOFFSETTO:-0400
RDATE:20180311T020000
END:DAYLIGHT
END:VTIMEZONE
BEGIN:VEVENT
UID:ea33fd60-b279-481e-8a39-d87c50fc648b
DTSTAMP:20260424T082747Z
DESCRIPTION:HappyFest Obstacle Course & Festival is the country's very firs
 t all-ages\, all-abilities accessible obstacle course.  It is designed tha
 t that all friends and family can do the course and cross the finish line 
 TOGETHER.  Every single obstacle on the 1+ mile course has an alternative 
 option\, for all who choose\, which is wheelchair accessible.  The day is 
 about family fitness\, togetherness and inclusion.\n\n Use promo code TheA
 rc for a special rate of $25.
DTSTART;TZID=America/New_York:20170617T093000
DTEND;TZID=America/New_York:20170617T130000
LOCATION:OLD BRIDGE RACEWAY PARK\, 230 Pension Road\, Englishtown\, NJ
SUMMARY:Happy Fest
END:VEVENT
END:VCALENDAR
