BEGIN:VCALENDAR
VERSION:2.0
PRODID:-//www.thearcfamilyinstitute.org//NONSGML kigkonsult.se iCalcreator 
 2.30.10//
CALSCALE:GREGORIAN
METHOD:PUBLISH
UID:225a9635-d975-4f54-a8bd-a89783803977
X-WR-CALDESC:Christine James\, Assistant Division Director\, Division of De
 velopmental Disabilities\, is inviting you to become more informed about h
 ow Fee For Service (FFS) will impact\, benefit\, and support people with d
 isabilities and their families in community agency systems and funding whe
 ther with their Individual Service Plans (ISPs)\, community provider agenc
 ies or in Support Coordination. \n\nChristine James oversees the Division’
 s self-directed services program throughout the state. Additionally\, she 
 supervises the state’s Community Care Waiver (CCW) as Case Management Dire
 ctor\, the Support Program-Ready Case Management Unit and is the Provider 
 (Agency Providers) Performance Director. She monitors and provides statewi
 de approval for Support Coordination service plans entering the new fee fo
 r service program.\n\nChristine James is welcoming your input\, experience
 s and questions.
X-WR-RELCALID:4a69c13e491f3aaa99f183bc7ea9b115
X-WR-TIMEZONE:America/New_York
BEGIN:VTIMEZONE
TZID:America/New_York
BEGIN:STANDARD
TZNAME:EST
DTSTART:20161106T020000
TZOFFSETFROM:-0400
TZOFFSETTO:-0500
RDATE:20171105T020000
RDATE:20181104T020000
END:STANDARD
BEGIN:DAYLIGHT
TZNAME:EDT
DTSTART:20170312T020000
TZOFFSETFROM:-0500
TZOFFSETTO:-0400
RDATE:20180311T020000
END:DAYLIGHT
END:VTIMEZONE
BEGIN:VEVENT
UID:d6a17605-713f-472c-bfb7-80f5e7e100ac
DTSTAMP:20260424T082921Z
DESCRIPTION:Christine James\, Assistant Division Director\, Division of Dev
 elopmental Disabilities\, is inviting you to become more informed about ho
 w Fee For Service (FFS) will impact\, benefit\, and support people with di
 sabilities and their families in community agency systems and funding whet
 her with their Individual Service Plans (ISPs)\, community provider agenci
 es or in Support Coordination. \n\nChristine James oversees the Division’s
  self-directed services program throughout the state. Additionally\, she s
 upervises the state’s Community Care Waiver (CCW) as Case Management Direc
 tor\, the Support Program-Ready Case Management Unit and is the Provider (
 Agency Providers) Performance Director. She monitors and provides statewid
 e approval for Support Coordination service plans entering the new fee for
  service program.\n\nChristine James is welcoming your input\, experiences
  and questions.
DTSTART;TZID=America/New_York:20170614T183000
DTEND;TZID=America/New_York:20170614T203000
LOCATION:Bridgewater Library\, Room B\, 1 Vogt Drive\, Bridgewater\, NJ
SUMMARY:Free Workshop: The New Fee For Service Model (Somerset County)
END:VEVENT
END:VCALENDAR
