BEGIN:VCALENDAR
VERSION:2.0
PRODID:-//www.thearcfamilyinstitute.org//NONSGML kigkonsult.se iCalcreator 
 2.30.10//
CALSCALE:GREGORIAN
METHOD:PUBLISH
UID:1006bbc1-fa09-4857-a414-f744c7acfbdb
X-WR-CALDESC:People with I/DD are at a heightened risk for abuse across the
 ir lifespan.  Having the necessary information\, skills\, opportunities\, 
 and supports is essential in reducing the risk of abuse and exploitation. 
  In this webinar\, the presenters will explore the personal safety needs o
 f people with I/DD.  They will also discuss the importance of establishing
  person centered policy\, procedure\, and  programming that promotes perso
 nal safety for people with I/DD receiving services in the community.
X-WR-RELCALID:c758c6643bb7a6b3818443a8db3d2ab7
X-WR-TIMEZONE:America/New_York
BEGIN:VTIMEZONE
TZID:America/New_York
BEGIN:STANDARD
TZNAME:EST
DTSTART:20161106T020000
TZOFFSETFROM:-0400
TZOFFSETTO:-0500
RDATE:20171105T020000
RDATE:20181104T020000
END:STANDARD
BEGIN:DAYLIGHT
TZNAME:EDT
DTSTART:20170312T020000
TZOFFSETFROM:-0500
TZOFFSETTO:-0400
RDATE:20180311T020000
END:DAYLIGHT
END:VTIMEZONE
BEGIN:VEVENT
UID:d68d8233-9c4a-42d1-9628-40d6880d6f4d
DTSTAMP:20260424T083017Z
DESCRIPTION:People with I/DD are at a heightened risk for abuse across thei
 r lifespan.  Having the necessary information\, skills\, opportunities\, a
 nd supports is essential in reducing the risk of abuse and exploitation.  
 In this webinar\, the presenters will explore the personal safety needs of
  people with I/DD.  They will also discuss the importance of establishing 
 person centered policy\, procedure\, and  programming that promotes person
 al safety for people with I/DD receiving services in the community.
DTSTART;TZID=America/New_York:20170614T130000
DTEND;TZID=America/New_York:20170614T140000
LOCATION:
SUMMARY:Free Webinar: Exploring Options in Policy\, Procedures and Programm
 ing in Promoting Personal Safety for People with I/DD
END:VEVENT
END:VCALENDAR
