BEGIN:VCALENDAR
VERSION:2.0
PRODID:-//www.thearcfamilyinstitute.org//NONSGML kigkonsult.se iCalcreator 
 2.30.10//
CALSCALE:GREGORIAN
METHOD:PUBLISH
UID:4d536e1b-40d1-468c-8624-59282b759572
X-WR-CALDESC:The New Jersey Division of Developmental Disabilities (DDD) ha
 s begun transitioning adult services (ages 21+) from a contract reimbursem
 ent system to a fee-for-service system. This change will dramatically affe
 ct the way individuals with intellectual and developmental disabilities ac
 cess services through DDD. This presentation will help families understand
  the new system and learn ways in which they can start to prepare.
X-WR-RELCALID:260eeea4b9591f0a08a064b5a76d4547
X-WR-TIMEZONE:America/New_York
BEGIN:VTIMEZONE
TZID:America/New_York
BEGIN:STANDARD
TZNAME:EST
DTSTART:20161106T020000
TZOFFSETFROM:-0400
TZOFFSETTO:-0500
RDATE:20171105T020000
RDATE:20181104T020000
END:STANDARD
BEGIN:DAYLIGHT
TZNAME:EDT
DTSTART:20170312T020000
TZOFFSETFROM:-0500
TZOFFSETTO:-0400
RDATE:20180311T020000
END:DAYLIGHT
END:VTIMEZONE
BEGIN:VEVENT
UID:d099fab4-3db1-4ba0-b9cf-642c7c4f9a73
DTSTAMP:20260424T081439Z
DESCRIPTION:The New Jersey Division of Developmental Disabilities (DDD) has
  begun transitioning adult services (ages 21+) from a contract reimburseme
 nt system to a fee-for-service system. This change will dramatically affec
 t the way individuals with intellectual and developmental disabilities acc
 ess services through DDD. This presentation will help families understand 
 the new system and learn ways in which they can start to prepare.
DTSTART;TZID=America/New_York:20170613T120000
DTEND;TZID=America/New_York:20170613T130000
LOCATION:
SUMMARY:Webinar: Lunch & Learn: Preparing for a Fee-For-Service System - A 
 How to Guide for Families
END:VEVENT
END:VCALENDAR
