BEGIN:VCALENDAR
VERSION:2.0
PRODID:-//www.thearcfamilyinstitute.org//NONSGML kigkonsult.se iCalcreator 
 2.30.10//
CALSCALE:GREGORIAN
METHOD:PUBLISH
UID:a5d64a7c-6343-4534-8dd0-3089f69a5509
X-WR-CALDESC:
X-WR-RELCALID:33e46266a24adab83a5c1b6b0c2b61b9
X-WR-TIMEZONE:America/New_York
BEGIN:VTIMEZONE
TZID:America/New_York
BEGIN:STANDARD
TZNAME:EST
DTSTART:20161106T020000
TZOFFSETFROM:-0400
TZOFFSETTO:-0500
RDATE:20171105T020000
RDATE:20181104T020000
END:STANDARD
BEGIN:DAYLIGHT
TZNAME:EDT
DTSTART:20170312T020000
TZOFFSETFROM:-0500
TZOFFSETTO:-0400
RDATE:20180311T020000
END:DAYLIGHT
END:VTIMEZONE
BEGIN:VEVENT
UID:84134db6-3b10-427c-9892-267ec21a0750
DTSTAMP:20260424T083304Z
DESCRIPTION:
DTSTART;TZID=America/New_York:20170613T190000
DTEND;TZID=America/New_York:20170613T210000
LOCATION:Bancroft Neuro-Rehab Resnick Center\, 3900 Church Road\, Mount Lau
 rel\, NJ 08054
SUMMARY:Support Group for Caregivers of Special Needs Children & Adults (Bu
 rlington County)
END:VEVENT
END:VCALENDAR
