BEGIN:VCALENDAR
VERSION:2.0
PRODID:-//www.thearcfamilyinstitute.org//NONSGML kigkonsult.se iCalcreator 
 2.30.10//
CALSCALE:GREGORIAN
METHOD:PUBLISH
UID:e47f5b15-856d-4293-a955-3816a62c9fa4
X-WR-CALDESC:
X-WR-RELCALID:50b05d101dea6da82d1248fbca7e267c
X-WR-TIMEZONE:America/New_York
BEGIN:VTIMEZONE
TZID:America/New_York
BEGIN:STANDARD
TZNAME:EST
DTSTART:20161106T020000
TZOFFSETFROM:-0400
TZOFFSETTO:-0500
RDATE:20171105T020000
RDATE:20181104T020000
END:STANDARD
BEGIN:DAYLIGHT
TZNAME:EDT
DTSTART:20170312T020000
TZOFFSETFROM:-0500
TZOFFSETTO:-0400
RDATE:20180311T020000
END:DAYLIGHT
END:VTIMEZONE
BEGIN:VEVENT
UID:d57bff6c-9b4c-448f-a6d2-ddeebaa7c847
DTSTAMP:20260424T082618Z
DESCRIPTION:
DTSTART;TZID=America/New_York:20170607T091500
DTEND;TZID=America/New_York:20170607T103000
LOCATION:Burlington County Human Services Facilities Building\, Lecture Hal
 ls A & B  First Floor (Off Main Lobby)\, 795 Woodlane Road\, Westampton\, 
 08060
SUMMARY:DVRS Transition Workshop
END:VEVENT
END:VCALENDAR
