BEGIN:VCALENDAR
VERSION:2.0
PRODID:-//www.thearcfamilyinstitute.org//NONSGML kigkonsult.se iCalcreator 
 2.30.10//
CALSCALE:GREGORIAN
METHOD:PUBLISH
UID:c31a993a-4587-471d-98ba-3278d8a268d5
X-WR-CALDESC:
X-WR-RELCALID:611d0c1f5b105fe97542e83477fdada9
X-WR-TIMEZONE:America/New_York
BEGIN:VTIMEZONE
TZID:America/New_York
BEGIN:STANDARD
TZNAME:EST
DTSTART:20161106T020000
TZOFFSETFROM:-0400
TZOFFSETTO:-0500
RDATE:20171105T020000
RDATE:20181104T020000
END:STANDARD
BEGIN:DAYLIGHT
TZNAME:EDT
DTSTART:20170312T020000
TZOFFSETFROM:-0500
TZOFFSETTO:-0400
RDATE:20180311T020000
END:DAYLIGHT
END:VTIMEZONE
BEGIN:VEVENT
UID:52503bcb-7269-4a7b-9ee4-121577144dca
DTSTAMP:20260424T082119Z
DESCRIPTION:
DTSTART;TZID=America/New_York:20170607T190000
DTEND;TZID=America/New_York:20170607T203000
LOCATION:Encouraging Kids\, Hamilton
SUMMARY:Assistive Technology (AT) Workshops
END:VEVENT
END:VCALENDAR
