BEGIN:VCALENDAR
VERSION:2.0
PRODID:-//www.thearcfamilyinstitute.org//NONSGML kigkonsult.se iCalcreator 
 2.30.10//
CALSCALE:GREGORIAN
METHOD:PUBLISH
UID:ba7f1e02-aa37-4170-933e-43966646b8f1
X-WR-CALDESC:
X-WR-RELCALID:4e478f46894497e2361a6e383d8cb5f1
X-WR-TIMEZONE:America/New_York
BEGIN:VTIMEZONE
TZID:America/New_York
BEGIN:STANDARD
TZNAME:EST
DTSTART:20161106T020000
TZOFFSETFROM:-0400
TZOFFSETTO:-0500
RDATE:20171105T020000
RDATE:20181104T020000
END:STANDARD
BEGIN:DAYLIGHT
TZNAME:EDT
DTSTART:20170312T020000
TZOFFSETFROM:-0500
TZOFFSETTO:-0400
RDATE:20180311T020000
END:DAYLIGHT
END:VTIMEZONE
BEGIN:VEVENT
UID:a003b5af-ff92-4059-a10c-27c5060bb7e6
DTSTAMP:20260424T083530Z
DESCRIPTION:
DTSTART;TZID=America/New_York:20170603T083000
DTEND;TZID=America/New_York:20170603T130000
LOCATION:Rutgers Camden Campus\, 303 Cooper Street Camden\, 08102
SUMMARY:Planning For Adult Life FREE Parent Forum and Opportunity Expo - Ca
 mden County
END:VEVENT
END:VCALENDAR
