BEGIN:VCALENDAR
VERSION:2.0
PRODID:-//www.thearcfamilyinstitute.org//NONSGML kigkonsult.se iCalcreator 
 2.30.10//
CALSCALE:GREGORIAN
METHOD:PUBLISH
UID:a729e145-1cd2-4ac3-8712-e8c3c28fad66
X-WR-CALDESC:This conference is for anyone concerned about ensuring the con
 sistent provision of quality health care to individuals with intellectual 
 and developmental disabilities (I/DD). Target audience includes health and
  mental health professionals\; administrative and direct care staff at I/D
 D service agencies\; family members\; social workers\; HMO representatives
 \; and employees of the New Jersey Departments of Human Services\, Childre
 n and Families\, and Health.
X-WR-RELCALID:f6561638faf372e00a22db10f3a1437f
X-WR-TIMEZONE:America/New_York
BEGIN:VTIMEZONE
TZID:America/New_York
BEGIN:STANDARD
TZNAME:EST
DTSTART:20161106T020000
TZOFFSETFROM:-0400
TZOFFSETTO:-0500
RDATE:20171105T020000
RDATE:20181104T020000
END:STANDARD
BEGIN:DAYLIGHT
TZNAME:EDT
DTSTART:20170312T020000
TZOFFSETFROM:-0500
TZOFFSETTO:-0400
RDATE:20180311T020000
END:DAYLIGHT
END:VTIMEZONE
BEGIN:VEVENT
UID:cd24a2f2-f18b-4e98-a9c2-fc3d573357b1
DTSTAMP:20260424T083212Z
DESCRIPTION:This conference is for anyone concerned about ensuring the cons
 istent provision of quality health care to individuals with intellectual a
 nd developmental disabilities (I/DD). Target audience includes health and 
 mental health professionals\; administrative and direct care staff at I/DD
  service agencies\; family members\; social workers\; HMO representatives\
 ; and employees of the New Jersey Departments of Human Services\, Children
  and Families\, and Health.
DTSTART;TZID=America/New_York:20170602T093000
DTEND;TZID=America/New_York:20170602T153000
LOCATION:The Westin Princeton\, 201 Village Blvd.\, Forrestal Village Princ
 eton\, 08540
SUMMARY:28th Annual Conference on Medical Care for People with Intellectual
  and Developmental Disabilities
END:VEVENT
END:VCALENDAR
