BEGIN:VCALENDAR
VERSION:2.0
PRODID:-//www.thearcfamilyinstitute.org//NONSGML kigkonsult.se iCalcreator 
 2.30.10//
CALSCALE:GREGORIAN
METHOD:PUBLISH
UID:83a1c04e-d22f-4a1c-aa26-fb5e02b1ef01
X-WR-CALDESC:Consultative help for parents of children in special education
 .
X-WR-RELCALID:9771aed054abc9d59c78d8acfaf1de1f
X-WR-TIMEZONE:America/New_York
BEGIN:VTIMEZONE
TZID:America/New_York
BEGIN:STANDARD
TZNAME:EST
DTSTART:20161106T020000
TZOFFSETFROM:-0400
TZOFFSETTO:-0500
RDATE:20171105T020000
RDATE:20181104T020000
END:STANDARD
BEGIN:DAYLIGHT
TZNAME:EDT
DTSTART:20170312T020000
TZOFFSETFROM:-0500
TZOFFSETTO:-0400
RDATE:20180311T020000
END:DAYLIGHT
END:VTIMEZONE
BEGIN:VEVENT
UID:e94c9a0d-1eea-4ef0-bdb1-9a777ab930a8
DTSTAMP:20260424T100824Z
DESCRIPTION:Consultative help for parents of children in special education.
DTSTART;TZID=America/New_York:20170525T173000
DTEND;TZID=America/New_York:20170525T193000
LOCATION:Freehold Raceway Mall (3710 Route 9 South\, Suite #2101\, Freehold
 \, NJ 07728)
SUMMARY:The Arc of Monmouth - Review Your Child's IEP for Free with Experts
END:VEVENT
END:VCALENDAR
