BEGIN:VCALENDAR
VERSION:2.0
PRODID:-//www.thearcfamilyinstitute.org//NONSGML kigkonsult.se iCalcreator 
 2.30.10//
CALSCALE:GREGORIAN
METHOD:PUBLISH
UID:dbb4806e-6914-4c29-8996-4d5921adc239
X-WR-CALDESC:
X-WR-RELCALID:60e81e7cb7d844e1d0c2d7c2cef24b8e
X-WR-TIMEZONE:America/New_York
BEGIN:VTIMEZONE
TZID:America/New_York
BEGIN:STANDARD
TZNAME:EST
DTSTART:20161106T020000
TZOFFSETFROM:-0400
TZOFFSETTO:-0500
RDATE:20171105T020000
RDATE:20181104T020000
END:STANDARD
BEGIN:DAYLIGHT
TZNAME:EDT
DTSTART:20170312T020000
TZOFFSETFROM:-0500
TZOFFSETTO:-0400
RDATE:20180311T020000
END:DAYLIGHT
END:VTIMEZONE
BEGIN:VEVENT
UID:1d4b43c9-0f4b-47ee-adc5-62f285ee3d7d
DTSTAMP:20260424T094412Z
DESCRIPTION:
DTSTART;TZID=America/New_York:20170525T173000
DTEND;TZID=America/New_York:20170525T193000
LOCATION:The Arc Center: 1158 Wayside Road\, Tinton Falls\, NJ
SUMMARY:The Arc Monmouth: IEP Review
END:VEVENT
END:VCALENDAR
