BEGIN:VCALENDAR
VERSION:2.0
PRODID:-//www.thearcfamilyinstitute.org//NONSGML kigkonsult.se iCalcreator 
 2.30.10//
CALSCALE:GREGORIAN
METHOD:PUBLISH
UID:dba993f0-6397-4624-8aba-84ee2fa17507
X-WR-CALDESC:Are You Looking For Professional Guidance With Your Child's IE
 P? \n\nNavigating through the Individualized Education Plan (IEP) process 
 can seem overwhelming\, but that's where The Arc of New Jersey Family Inst
 itute can help. We are offering regional IEP reviews for families who may 
 have questions or concerns about their child's plan. Families will have an
  opportunity to sit down with an attorney from Hinkle\, Fingles\, Prior\, 
 & Fischer to review their child's IEP\, ask questions and discuss any conc
 erns they may have about their school district. \n\nSpace is limited and r
 egistration is REQUIRED to attend. Families will receive a free 30 minute 
 IEP review. Contact Kristina Tosti at (609) 896-4200 to reserve your time 
 slot. \n\nAgenda:\nKnow Your Rights: An overview 6 - 6:30 pm\n6:30 - 9 pm 
 Individual IEP Review (1:1\, 30 minute session)
X-WR-RELCALID:43e7d0934e9a9d063e4d0446dd0b41c3
X-WR-TIMEZONE:America/New_York
BEGIN:VTIMEZONE
TZID:America/New_York
BEGIN:STANDARD
TZNAME:EST
DTSTART:20161106T020000
TZOFFSETFROM:-0400
TZOFFSETTO:-0500
RDATE:20171105T020000
RDATE:20181104T020000
END:STANDARD
BEGIN:DAYLIGHT
TZNAME:EDT
DTSTART:20170312T020000
TZOFFSETFROM:-0500
TZOFFSETTO:-0400
RDATE:20180311T020000
END:DAYLIGHT
END:VTIMEZONE
BEGIN:VEVENT
UID:24a07ee1-c6a2-4dc9-8daf-b2b8c661d5be
DTSTAMP:20260424T100824Z
DESCRIPTION:Are You Looking For Professional Guidance With Your Child's IEP
 ? \n\nNavigating through the Individualized Education Plan (IEP) process c
 an seem overwhelming\, but that's where The Arc of New Jersey Family Insti
 tute can help. We are offering regional IEP reviews for families who may h
 ave questions or concerns about their child's plan. Families will have an 
 opportunity to sit down with an attorney from Hinkle\, Fingles\, Prior\, &
  Fischer to review their child's IEP\, ask questions and discuss any conce
 rns they may have about their school district. \n\nSpace is limited and re
 gistration is REQUIRED to attend. Families will receive a free 30 minute I
 EP review. Contact Kristina Tosti at (609) 896-4200 to reserve your time s
 lot. \n\nAgenda:\nKnow Your Rights: An overview 6 - 6:30 pm\n6:30 - 9 pm I
 ndividual IEP Review (1:1\, 30 minute session)
DTSTART;TZID=America/New_York:20170524T180000
DTEND;TZID=America/New_York:20170524T210000
LOCATION:The Arc of Ocean\, 815 Cedarbridge Ave\, Lakewood\, 08701
SUMMARY:Free IEP Review With the Attorneys of Hinkle\, Fingles\, Prior\, & 
 Fischer\, Attorneys at Law
END:VEVENT
END:VCALENDAR
