BEGIN:VCALENDAR
VERSION:2.0
PRODID:-//www.thearcfamilyinstitute.org//NONSGML kigkonsult.se iCalcreator 
 2.30.10//
CALSCALE:GREGORIAN
METHOD:PUBLISH
UID:66e6ad60-16b9-4c9c-bc54-7179fcd6996e
X-WR-CALDESC:The law firm of Hinkle\, Fingles\, Prior and Fischer will pres
 ent information on the March 22\, 2017 US Supreme Court ruling of the Endr
 ew F. case---“that an IEP is appropriate only if it is reasonably calculat
 ed to enable the child to make progress appropriate in light of his/her ci
 rcumstances.”  They believe this to be the most important special educatio
 n decision for families in 35 years.\n\nLight snacks will be served.  Chil
 d care is available by request only.
X-WR-RELCALID:c633e78d45a76fc18bf9d9b4c78008c1
X-WR-TIMEZONE:America/New_York
BEGIN:VTIMEZONE
TZID:America/New_York
BEGIN:STANDARD
TZNAME:EST
DTSTART:20161106T020000
TZOFFSETFROM:-0400
TZOFFSETTO:-0500
RDATE:20171105T020000
RDATE:20181104T020000
END:STANDARD
BEGIN:DAYLIGHT
TZNAME:EDT
DTSTART:20170312T020000
TZOFFSETFROM:-0500
TZOFFSETTO:-0400
RDATE:20180311T020000
END:DAYLIGHT
END:VTIMEZONE
BEGIN:VEVENT
UID:2fbc4429-e74c-4c67-b4e6-1fd533aca31d
DTSTAMP:20260424T094756Z
DESCRIPTION:The law firm of Hinkle\, Fingles\, Prior and Fischer will prese
 nt information on the March 22\, 2017 US Supreme Court ruling of the Endre
 w F. case---“that an IEP is appropriate only if it is reasonably calculate
 d to enable the child to make progress appropriate in light of his/her cir
 cumstances.”  They believe this to be the most important special education
  decision for families in 35 years.\n\nLight snacks will be served.  Child
  care is available by request only.
DTSTART;TZID=America/New_York:20170523T183000
DTEND;TZID=America/New_York:20170523T193000
LOCATION:SCARC Community Center\, 4 Camre Drive\, Newton\, NJ
SUMMARY:The Arc of Sussex (SCARC): The Endrew F. Decision Explained
END:VEVENT
END:VCALENDAR
