BEGIN:VCALENDAR
VERSION:2.0
PRODID:-//www.thearcfamilyinstitute.org//NONSGML kigkonsult.se iCalcreator 
 2.30.10//
CALSCALE:GREGORIAN
METHOD:PUBLISH
UID:d8f92cd6-a4f5-4682-9403-af00234c9767
X-WR-CALDESC:Many families still have questions about the DDD Supports Prog
 ram. Discuss important information on\neligibility\, enrollment\, support 
 coordinators and what services The Arc of Monmouth can provide for you and
  your family\nmember.\n\nLunch is provided.
X-WR-RELCALID:d5fdfcbe93cc75d668aa9204c76a4b77
X-WR-TIMEZONE:America/New_York
BEGIN:VTIMEZONE
TZID:America/New_York
BEGIN:STANDARD
TZNAME:EST
DTSTART:20161106T020000
TZOFFSETFROM:-0400
TZOFFSETTO:-0500
RDATE:20171105T020000
RDATE:20181104T020000
END:STANDARD
BEGIN:DAYLIGHT
TZNAME:EDT
DTSTART:20170312T020000
TZOFFSETFROM:-0500
TZOFFSETTO:-0400
RDATE:20180311T020000
END:DAYLIGHT
END:VTIMEZONE
BEGIN:VEVENT
UID:578d6ee0-3713-4e9a-abec-e47b045c9fa2
DTSTAMP:20260424T094223Z
DESCRIPTION:Many families still have questions about the DDD Supports Progr
 am. Discuss important information on\neligibility\, enrollment\, support c
 oordinators and what services The Arc of Monmouth can provide for you and 
 your family\nmember.\n\nLunch is provided.
DTSTART;TZID=America/New_York:20170523T120000
DTEND;TZID=America/New_York:20170523T130000
LOCATION:The Arc Center (1158 Wayside Road\, Tinton Falls\, NJ 07712)
SUMMARY:The Arc of Monmouth - Transitioning & The DDD Supports Program
END:VEVENT
END:VCALENDAR
