BEGIN:VCALENDAR
VERSION:2.0
PRODID:-//www.thearcfamilyinstitute.org//NONSGML kigkonsult.se iCalcreator 
 2.30.10//
CALSCALE:GREGORIAN
METHOD:PUBLISH
UID:fd0bd34d-18a1-43dd-9cc7-0c67a5f798ac
X-WR-CALDESC:The Office of Tiered Supports and Specialized Services is spon
 soring regional Dare to Dream Student Leadership conferences that highligh
 t strategies and information to prepare high school students with disabili
 ties for college and career. Each conference features presentations from a
 ccomplished students and young adults with disabilities who have demonstra
 ted exemplary self-advocacy and leadership skills. Additionally\, the conf
 erence program includes a variety of concurrent workshops that provide con
 ference attendees opportunities to gain insight into the transition from s
 chool to adult life process. The conference gives students the opportunity
  to participate in workshops led by their peers on topics such as: self-di
 scovery\, student self-advocacy\, learning styles\, career path developmen
 ts\, and student rights and responsibilities in college. Dare to Dream has
  long been a positive and empowering experience for thousands of New Jerse
 y's students.\n\nPriority registration is given to districts that have stu
 dents presenting a breakout session\, musical performance\, or presentatio
 n.
X-WR-RELCALID:40dab9e29d7375eb5f06fcadef8d643a
X-WR-TIMEZONE:America/New_York
BEGIN:VTIMEZONE
TZID:America/New_York
BEGIN:STANDARD
TZNAME:EST
DTSTART:20161106T020000
TZOFFSETFROM:-0400
TZOFFSETTO:-0500
RDATE:20171105T020000
RDATE:20181104T020000
END:STANDARD
BEGIN:DAYLIGHT
TZNAME:EDT
DTSTART:20170312T020000
TZOFFSETFROM:-0500
TZOFFSETTO:-0400
RDATE:20180311T020000
END:DAYLIGHT
END:VTIMEZONE
BEGIN:VEVENT
UID:f195a7be-cf58-40f2-9cba-0d5872e946df
DTSTAMP:20260424T094418Z
DESCRIPTION:The Office of Tiered Supports and Specialized Services is spons
 oring regional Dare to Dream Student Leadership conferences that highlight
  strategies and information to prepare high school students with disabilit
 ies for college and career. Each conference features presentations from ac
 complished students and young adults with disabilities who have demonstrat
 ed exemplary self-advocacy and leadership skills. Additionally\, the confe
 rence program includes a variety of concurrent workshops that provide conf
 erence attendees opportunities to gain insight into the transition from sc
 hool to adult life process. The conference gives students the opportunity 
 to participate in workshops led by their peers on topics such as: self-dis
 covery\, student self-advocacy\, learning styles\, career path development
 s\, and student rights and responsibilities in college. Dare to Dream has 
 long been a positive and empowering experience for thousands of New Jersey
 's students.\n\nPriority registration is given to districts that have stud
 ents presenting a breakout session\, musical performance\, or presentation
 .
DTSTART;TZID=America/New_York:20170522T090000
DTEND;TZID=America/New_York:20170522T133000
LOCATION:William Paterson\, Passaic County
SUMMARY:Dare to Dream in 2017 High School Student Leadership Conference (Pa
 ssaic County)
END:VEVENT
END:VCALENDAR
