BEGIN:VCALENDAR
VERSION:2.0
PRODID:-//www.thearcfamilyinstitute.org//NONSGML kigkonsult.se iCalcreator 
 2.30.10//
CALSCALE:GREGORIAN
METHOD:PUBLISH
UID:7cf5d10f-f2df-4683-b1f8-1e01581f6882
X-WR-CALDESC:
X-WR-RELCALID:f26322fc3c84cb891fe7f10db81f545d
X-WR-TIMEZONE:America/New_York
BEGIN:VTIMEZONE
TZID:America/New_York
BEGIN:STANDARD
TZNAME:EST
DTSTART:20161106T020000
TZOFFSETFROM:-0400
TZOFFSETTO:-0500
RDATE:20171105T020000
RDATE:20181104T020000
END:STANDARD
BEGIN:DAYLIGHT
TZNAME:EDT
DTSTART:20170312T020000
TZOFFSETFROM:-0500
TZOFFSETTO:-0400
RDATE:20180311T020000
END:DAYLIGHT
END:VTIMEZONE
BEGIN:VEVENT
UID:5626025e-d9c0-4306-80ed-0724cf4efafb
DTSTAMP:20260424T094048Z
DESCRIPTION:
DTSTART;TZID=America/New_York:20170520T100000
DTEND;TZID=America/New_York:20170520T120000
LOCATION:Arthur L. Johnson High School\, 365 Westfield Ave.\, Clark\, 07066
SUMMARY:Transition Fair (Union County)
END:VEVENT
END:VCALENDAR
