BEGIN:VCALENDAR
VERSION:2.0
PRODID:-//www.thearcfamilyinstitute.org//NONSGML kigkonsult.se iCalcreator 
 2.30.10//
CALSCALE:GREGORIAN
METHOD:PUBLISH
UID:b275a1ae-6f75-4ad9-9430-2f6c1297a347
X-WR-CALDESC:These events are held throughout the state and consists of a P
 arent Forum that includes workshops (45-60 minutes) on specific topics inc
 luding support coordination\, the continuum of community services\, financ
 ial planning\, eligibility requirements\, and where to find help. The Oppo
 rtunity Expo features a variety of exhibitors including: state and county 
 government entities\, community service providers\, service coordinators\,
  local health care support and recreation providers\, additional informati
 on and referral services. Families will have an opportunity to be introduc
 ed to opportunities in their area as well as interview potential services 
 to hire.\n\nThis Parent Forum will offer a sibling retreat for children 8-
 14 years of age. This retreat will give siblings an opportunity to meet ot
 her siblings and talk to one another\, through games and activities\, abou
 t the good and not so good parts of having a sibling with special needs. P
 arents must be registered for this free  conference in order for their chi
 ld to participate in the sibling retreat. This event is in partnership wit
 h the Planning For Adult Life\, The Arc of New Jersey Family Institute and
  SIBS NJ.
X-WR-RELCALID:981a01590c648b8211073c3bdbc9bb0e
X-WR-TIMEZONE:America/New_York
BEGIN:VTIMEZONE
TZID:America/New_York
BEGIN:STANDARD
TZNAME:EST
DTSTART:20161106T020000
TZOFFSETFROM:-0400
TZOFFSETTO:-0500
RDATE:20171105T020000
RDATE:20181104T020000
END:STANDARD
BEGIN:DAYLIGHT
TZNAME:EDT
DTSTART:20170312T020000
TZOFFSETFROM:-0500
TZOFFSETTO:-0400
RDATE:20180311T020000
END:DAYLIGHT
END:VTIMEZONE
BEGIN:VEVENT
UID:1c71b6e9-667c-443c-a5ec-3fd8e15dcad5
DTSTAMP:20260424T094724Z
DESCRIPTION:These events are held throughout the state and consists of a Pa
 rent Forum that includes workshops (45-60 minutes) on specific topics incl
 uding support coordination\, the continuum of community services\, financi
 al planning\, eligibility requirements\, and where to find help. The Oppor
 tunity Expo features a variety of exhibitors including: state and county g
 overnment entities\, community service providers\, service coordinators\, 
 local health care support and recreation providers\, additional informatio
 n and referral services. Families will have an opportunity to be introduce
 d to opportunities in their area as well as interview potential services t
 o hire.\n\nThis Parent Forum will offer a sibling retreat for children 8-1
 4 years of age. This retreat will give siblings an opportunity to meet oth
 er siblings and talk to one another\, through games and activities\, about
  the good and not so good parts of having a sibling with special needs. Pa
 rents must be registered for this free  conference in order for their chil
 d to participate in the sibling retreat. This event is in partnership with
  the Planning For Adult Life\, The Arc of New Jersey Family Institute and 
 SIBS NJ.
DTSTART;TZID=America/New_York:20170520T083000
DTEND;TZID=America/New_York:20170520T130000
LOCATION:Clifton High School\, 333 Colfax Avenue\, Clifton\, NJ 07013
SUMMARY:FREE Parent Forum and Opportunity Expo at Clifton High School - Pas
 saic County
END:VEVENT
END:VCALENDAR
