BEGIN:VCALENDAR
VERSION:2.0
PRODID:-//www.thearcfamilyinstitute.org//NONSGML kigkonsult.se iCalcreator 
 2.30.10//
CALSCALE:GREGORIAN
METHOD:PUBLISH
UID:1d3f6457-0569-4ba8-b4a4-158aee3f03d8
X-WR-CALDESC:During this hour long webinar our speaker Dr. Tay Bosley\, Psy
 .D\, former Clinician Administrator- Specialized Sex Offender Treatment Se
 rvices at Rutgers University Behavioral Health Care\, will provide an over
 view and discussion of the conditions and treatment aspects of Parole Supe
 rvision for Life. Join us as we learn more about this mandatory sentence.
X-WR-RELCALID:65486931b0cd2d03edeb7f487675ab2c
X-WR-TIMEZONE:America/New_York
BEGIN:VTIMEZONE
TZID:America/New_York
BEGIN:STANDARD
TZNAME:EST
DTSTART:20161106T020000
TZOFFSETFROM:-0400
TZOFFSETTO:-0500
RDATE:20171105T020000
RDATE:20181104T020000
END:STANDARD
BEGIN:DAYLIGHT
TZNAME:EDT
DTSTART:20170312T020000
TZOFFSETFROM:-0500
TZOFFSETTO:-0400
RDATE:20180311T020000
END:DAYLIGHT
END:VTIMEZONE
BEGIN:VEVENT
UID:57b4cc50-3483-4f89-adad-5b7a08c20201
DTSTAMP:20260424T095652Z
DESCRIPTION:During this hour long webinar our speaker Dr. Tay Bosley\, Psy.
 D\, former Clinician Administrator- Specialized Sex Offender Treatment Ser
 vices at Rutgers University Behavioral Health Care\, will provide an overv
 iew and discussion of the conditions and treatment aspects of Parole Super
 vision for Life. Join us as we learn more about this mandatory sentence.
DTSTART;TZID=America/New_York:20170518T130000
DTEND;TZID=America/New_York:20170518T140000
LOCATION:
SUMMARY:Free Webinar: Overview of NJ Parole Supervision for Life: Condition
 s and Treatment
END:VEVENT
END:VCALENDAR
