BEGIN:VCALENDAR
VERSION:2.0
PRODID:-//www.thearcfamilyinstitute.org//NONSGML kigkonsult.se iCalcreator 
 2.30.10//
CALSCALE:GREGORIAN
METHOD:PUBLISH
UID:6b9aaab9-5193-4225-a90f-1a990b9b7bd7
X-WR-CALDESC:Supplemental Security Income (SSI) is a United States governme
 nt program that provides stipends to individuals with low income who have 
 disabilities\, visual impairments or are 65 or older. This cash is to meet
  basic needs for food\, clothing\, and shelter. If an individual is denied
 \, they may appeal. This webinar is geared to help individuals\, their fam
 ilies\, and professionals in the field to understand the appeal process.
X-WR-RELCALID:221530b3c922f6dc00ac797fb9b99528
X-WR-TIMEZONE:America/New_York
BEGIN:VTIMEZONE
TZID:America/New_York
BEGIN:STANDARD
TZNAME:EST
DTSTART:20161106T020000
TZOFFSETFROM:-0400
TZOFFSETTO:-0500
RDATE:20171105T020000
RDATE:20181104T020000
END:STANDARD
BEGIN:DAYLIGHT
TZNAME:EDT
DTSTART:20170312T020000
TZOFFSETFROM:-0500
TZOFFSETTO:-0400
RDATE:20180311T020000
END:DAYLIGHT
END:VTIMEZONE
BEGIN:VEVENT
UID:9098ba9b-4b19-492d-af16-8a9e90383b0a
DTSTAMP:20260424T094325Z
DESCRIPTION:Supplemental Security Income (SSI) is a United States governmen
 t program that provides stipends to individuals with low income who have d
 isabilities\, visual impairments or are 65 or older. This cash is to meet 
 basic needs for food\, clothing\, and shelter. If an individual is denied\
 , they may appeal. This webinar is geared to help individuals\, their fami
 lies\, and professionals in the field to understand the appeal process.
DTSTART;TZID=America/New_York:20170517T180000
DTEND;TZID=America/New_York:20170517T190000
LOCATION:
SUMMARY:Free Webinar: Submitting An Appeal If Denied for Social Security
END:VEVENT
END:VCALENDAR
