BEGIN:VCALENDAR
VERSION:2.0
PRODID:-//www.thearcfamilyinstitute.org//NONSGML kigkonsult.se iCalcreator 
 2.30.10//
CALSCALE:GREGORIAN
METHOD:PUBLISH
UID:f21906e2-ba1f-414a-b7d8-5a6bf48ee5cc
X-WR-CALDESC:
X-WR-RELCALID:b7d491900248b62c6683399a06ec6d3d
X-WR-TIMEZONE:America/New_York
BEGIN:VTIMEZONE
TZID:America/New_York
BEGIN:STANDARD
TZNAME:EST
DTSTART:20161106T020000
TZOFFSETFROM:-0400
TZOFFSETTO:-0500
RDATE:20171105T020000
RDATE:20181104T020000
END:STANDARD
BEGIN:DAYLIGHT
TZNAME:EDT
DTSTART:20170312T020000
TZOFFSETFROM:-0500
TZOFFSETTO:-0400
RDATE:20180311T020000
END:DAYLIGHT
END:VTIMEZONE
BEGIN:VEVENT
UID:70fed8d9-f590-4d7b-bf90-5e2033ab092c
DTSTAMP:20260424T094750Z
DESCRIPTION:
DTSTART;TZID=America/New_York:20170517T183000
DTEND;TZID=America/New_York:20170517T203000
LOCATION:Sunshine Inn at Camp Sun N’ Fun\, 1036 N Tuckahoe Rd.\, Williamsto
 wn\, NJ 08094
SUMMARY:'Navigating Systems of Care : The  Importance for Our Children and 
 Adults
END:VEVENT
END:VCALENDAR
