BEGIN:VCALENDAR
VERSION:2.0
PRODID:-//www.thearcfamilyinstitute.org//NONSGML kigkonsult.se iCalcreator 
 2.30.10//
CALSCALE:GREGORIAN
METHOD:PUBLISH
UID:9fb36efe-aaa4-42fe-bffc-f1b22525925c
X-WR-CALDESC:Sexual education encompasses many aspects of life\, such as an
 atomy\, health\, personal hygiene\, reproduction\, relationships\, and the
  expression of love. Sex education is needed by all human beings including
  youth with intellectual and developmental disabilities. Excluding youth w
 ith intellectual and developmental disabilities from this important conver
 sation can leave this population vulnerable to abuse. This webinar will di
 scuss why educating youth with intellectual and developmental disabilities
  is so important\, barriers families face in discussing sexuality\, and so
 lutions to those barriers.
X-WR-RELCALID:81b3705b1429cb9ddc7a46c4a381406e
X-WR-TIMEZONE:America/New_York
BEGIN:VTIMEZONE
TZID:America/New_York
BEGIN:STANDARD
TZNAME:EST
DTSTART:20161106T020000
TZOFFSETFROM:-0400
TZOFFSETTO:-0500
RDATE:20171105T020000
RDATE:20181104T020000
END:STANDARD
BEGIN:DAYLIGHT
TZNAME:EDT
DTSTART:20170312T020000
TZOFFSETFROM:-0500
TZOFFSETTO:-0400
RDATE:20180311T020000
END:DAYLIGHT
END:VTIMEZONE
BEGIN:VEVENT
UID:04ea0146-f4be-4dbd-910f-668e7c3aea7d
DTSTAMP:20260424T094217Z
DESCRIPTION:Sexual education encompasses many aspects of life\, such as ana
 tomy\, health\, personal hygiene\, reproduction\, relationships\, and the 
 expression of love. Sex education is needed by all human beings including 
 youth with intellectual and developmental disabilities. Excluding youth wi
 th intellectual and developmental disabilities from this important convers
 ation can leave this population vulnerable to abuse. This webinar will dis
 cuss why educating youth with intellectual and developmental disabilities 
 is so important\, barriers families face in discussing sexuality\, and sol
 utions to those barriers.
DTSTART;TZID=America/New_York:20170516T120000
DTEND;TZID=America/New_York:20170516T130000
LOCATION:
SUMMARY:Webinar: Lunch & Learn: Understanding Sexuality in Youth with Intel
 lectual and Developmental Disabilities
END:VEVENT
END:VCALENDAR
