BEGIN:VCALENDAR
VERSION:2.0
PRODID:-//www.thearcfamilyinstitute.org//NONSGML kigkonsult.se iCalcreator 
 2.30.10//
CALSCALE:GREGORIAN
METHOD:PUBLISH
UID:e69c153a-8621-41a6-a303-3f252ce1f544
X-WR-CALDESC:
X-WR-RELCALID:e9d30ff6731a580ae1b21f10b6067922
X-WR-TIMEZONE:America/New_York
BEGIN:VTIMEZONE
TZID:America/New_York
BEGIN:STANDARD
TZNAME:EST
DTSTART:20161106T020000
TZOFFSETFROM:-0400
TZOFFSETTO:-0500
RDATE:20171105T020000
RDATE:20181104T020000
END:STANDARD
BEGIN:DAYLIGHT
TZNAME:EDT
DTSTART:20170312T020000
TZOFFSETFROM:-0500
TZOFFSETTO:-0400
RDATE:20180311T020000
END:DAYLIGHT
END:VTIMEZONE
BEGIN:VEVENT
UID:2f7065db-63ac-4c08-ac74-e0e7f02e539a
DTSTAMP:20260424T094638Z
DESCRIPTION:
DTSTART;TZID=America/New_York:20170513T080000
DTEND;TZID=America/New_York:20170513T160000
LOCATION:NJHA Conference & Event Center\, 760 Alexander Road\, Princeton
SUMMARY:Learning Disabilities Association of New Jersey  Presents Life Afte
 r High School Conference
END:VEVENT
END:VCALENDAR
